BEGIN:VCALENDAR
VERSION:2.0
PRODID:-//Akustik-Blog - ECPv6.15.20//NONSGML v1.0//EN
CALSCALE:GREGORIAN
METHOD:PUBLISH
X-WR-CALNAME:Akustik-Blog
X-ORIGINAL-URL:https://blog.rwth-aachen.de/akustik
X-WR-CALDESC:Veranstaltungen für Akustik-Blog
REFRESH-INTERVAL;VALUE=DURATION:PT1H
X-Robots-Tag:noindex
X-PUBLISHED-TTL:PT1H
BEGIN:VTIMEZONE
TZID:Europe/Berlin
BEGIN:DAYLIGHT
TZOFFSETFROM:+0100
TZOFFSETTO:+0200
TZNAME:CEST
DTSTART:20190331T010000
END:DAYLIGHT
BEGIN:STANDARD
TZOFFSETFROM:+0200
TZOFFSETTO:+0100
TZNAME:CET
DTSTART:20191027T010000
END:STANDARD
BEGIN:DAYLIGHT
TZOFFSETFROM:+0100
TZOFFSETTO:+0200
TZNAME:CEST
DTSTART:20200329T010000
END:DAYLIGHT
BEGIN:STANDARD
TZOFFSETFROM:+0200
TZOFFSETTO:+0100
TZNAME:CET
DTSTART:20201025T010000
END:STANDARD
BEGIN:DAYLIGHT
TZOFFSETFROM:+0100
TZOFFSETTO:+0200
TZNAME:CEST
DTSTART:20210328T010000
END:DAYLIGHT
BEGIN:STANDARD
TZOFFSETFROM:+0200
TZOFFSETTO:+0100
TZNAME:CET
DTSTART:20211031T010000
END:STANDARD
END:VTIMEZONE
BEGIN:VEVENT
DTSTART;TZID=Europe/Berlin:20200619T110000
DTEND;TZID=Europe/Berlin:20200619T120000
DTSTAMP:20260426T034342
CREATED:20200424T101615Z
LAST-MODIFIED:20200604T082442Z
UID:988-1592564400-1592568000@blog.rwth-aachen.de
SUMMARY:Kersten: Directional Sound Field Decay in Reverberation Rooms
DESCRIPTION:According to ISO 345\, the random-incidence sound absorption coefficient is measured in a reverberation room by determining the different reverberation times with and without the absorber inserted. The sound field in the room is assumed to be diffuse. Thus\, the corresponding energy decay curves would be strictly exponential\, but turn out to represent multiple decay processes. In the modal concept of the sound field\, this is assigned to the existence of groups of modes\, which decay according to their specific damping. \nIn this thesis\, the use of a multiple-input multiple-output system allows a directional\, time-dependent analysis while varying the source directivity. Thereby\, differently decaying groups of modes are qualitatively and quantitatively identified. They are in particular discussed in terms of their reverberation times and with respect to the resulting isotropy in the room\, which is a fundamental property of a diffuse sound field. Furthermore\, by optimizing the source directivity with respect to a maximum isotropy\, its ability in weighting the groups of modes is shown.
URL:https://blog.rwth-aachen.de/akustik/event/kersten-direktionales-abklingen-des-schallfeldes-in-hallraeumen/
LOCATION:Zoom-Meeting
CATEGORIES:Verteidigung Masterarbeit
END:VEVENT
END:VCALENDAR