BEGIN:VCALENDAR
VERSION:2.0
PRODID:-//Akustik-Blog - ECPv6.15.20//NONSGML v1.0//EN
CALSCALE:GREGORIAN
METHOD:PUBLISH
X-WR-CALNAME:Akustik-Blog
X-ORIGINAL-URL:https://blog.rwth-aachen.de/akustik
X-WR-CALDESC:Veranstaltungen für Akustik-Blog
REFRESH-INTERVAL;VALUE=DURATION:PT1H
X-Robots-Tag:noindex
X-PUBLISHED-TTL:PT1H
BEGIN:VTIMEZONE
TZID:Europe/Berlin
BEGIN:DAYLIGHT
TZOFFSETFROM:+0100
TZOFFSETTO:+0200
TZNAME:CEST
DTSTART:20190331T010000
END:DAYLIGHT
BEGIN:STANDARD
TZOFFSETFROM:+0200
TZOFFSETTO:+0100
TZNAME:CET
DTSTART:20191027T010000
END:STANDARD
BEGIN:DAYLIGHT
TZOFFSETFROM:+0100
TZOFFSETTO:+0200
TZNAME:CEST
DTSTART:20200329T010000
END:DAYLIGHT
BEGIN:STANDARD
TZOFFSETFROM:+0200
TZOFFSETTO:+0100
TZNAME:CET
DTSTART:20201025T010000
END:STANDARD
BEGIN:DAYLIGHT
TZOFFSETFROM:+0100
TZOFFSETTO:+0200
TZNAME:CEST
DTSTART:20210328T010000
END:DAYLIGHT
BEGIN:STANDARD
TZOFFSETFROM:+0200
TZOFFSETTO:+0100
TZNAME:CET
DTSTART:20211031T010000
END:STANDARD
END:VTIMEZONE
BEGIN:VEVENT
DTSTART;TZID=Europe/Berlin:20200911T110000
DTEND;TZID=Europe/Berlin:20200911T170000
DTSTAMP:20260426T022003
CREATED:20200821T100635Z
LAST-MODIFIED:20200903T102524Z
UID:1093-1599822000-1599843600@blog.rwth-aachen.de
SUMMARY:Llorca-Bofí: Person-focused Analysis of Architectural Design
DESCRIPTION:In January 2021\, a junior research group will be born inside RWTH Aachen University. The Person-focused Analysis of Architectural Desgin group [PAAD] aims to elaborate an architectural design categorization based on expert and non-expert judgements of buildings in a long term project. The impact of architectural design on daily life activities is studied in separated modalities such as acoustics\, connectivity\, working illumination\, and others. The project at the Institute of Technical Acoustics is going to start to elaborate certain subjective metrics in relation to architectural design. Using descriptive analysis techniques in controlled virtual environments\, the approach will start focusing on the acoustic features of architectural environments\, and will continue with other modalities in the future. \nMelden Sie sich Hier an um die Einladung zu dem Vortrag per E-Mail zu erhalten.\nRegister here to receive the invitation to this talk via E-Mail. \nZoom-Meeting-ID: 991 7783 0596\nPasswort: 777841
URL:https://blog.rwth-aachen.de/akustik/event/llorca-person-focused-analys-of-architectural-design/
LOCATION:Zoom-Meeting
END:VEVENT
END:VCALENDAR