BEGIN:VCALENDAR
VERSION:2.0
PRODID:-//Akustik-Blog - ECPv6.15.20//NONSGML v1.0//EN
CALSCALE:GREGORIAN
METHOD:PUBLISH
X-WR-CALNAME:Akustik-Blog
X-ORIGINAL-URL:https://blog.rwth-aachen.de/akustik
X-WR-CALDESC:Veranstaltungen für Akustik-Blog
REFRESH-INTERVAL;VALUE=DURATION:PT1H
X-Robots-Tag:noindex
X-PUBLISHED-TTL:PT1H
BEGIN:VTIMEZONE
TZID:Europe/Berlin
BEGIN:DAYLIGHT
TZOFFSETFROM:+0100
TZOFFSETTO:+0200
TZNAME:CEST
DTSTART:20200329T010000
END:DAYLIGHT
BEGIN:STANDARD
TZOFFSETFROM:+0200
TZOFFSETTO:+0100
TZNAME:CET
DTSTART:20201025T010000
END:STANDARD
BEGIN:DAYLIGHT
TZOFFSETFROM:+0100
TZOFFSETTO:+0200
TZNAME:CEST
DTSTART:20210328T010000
END:DAYLIGHT
BEGIN:STANDARD
TZOFFSETFROM:+0200
TZOFFSETTO:+0100
TZNAME:CET
DTSTART:20211031T010000
END:STANDARD
BEGIN:DAYLIGHT
TZOFFSETFROM:+0100
TZOFFSETTO:+0200
TZNAME:CEST
DTSTART:20220327T010000
END:DAYLIGHT
BEGIN:STANDARD
TZOFFSETFROM:+0200
TZOFFSETTO:+0100
TZNAME:CET
DTSTART:20221030T010000
END:STANDARD
END:VTIMEZONE
BEGIN:VEVENT
DTSTART;TZID=Europe/Berlin:20210319T113000
DTEND;TZID=Europe/Berlin:20210319T120000
DTSTAMP:20260426T030353
CREATED:20210212T100338Z
LAST-MODIFIED:20210314T123639Z
UID:1285-1616153400-1616155200@blog.rwth-aachen.de
SUMMARY:Klein: Praxissemester bei Müller-BBM
DESCRIPTION:Die Müller-BBM GmbH ist eine der führenden Ingenieurgesellschaften für Beratungsleistungen\, Prüfungen und Planungen in allen Bereichen der Akustik\, der Bauphysik und des Umweltschutzes. Der Geschäftsbereich Technik vereint interdisziplinäre Kompetenz und langjährige Erfahrung für Industrie\, Gewerbe und Verkehr. Während meines Praktikums in der Niederlassung Gelsenkirchen\, war ich im Bereich der Industrieakustik tätig. Hier habe ich schalltechnische Emissions- und Immissionsmessungen in Industrieanlagen durchgeführt\, Messdaten ausgewertet\, sowie zu Projektberichten beigetragen. Zudem habe ich mich der Optimierung interner Auswertungsroutinen hinsichtlich der aktuellen Normenlage gewidmet. \nMelden Sie sich hier an um die Einladung zu dem Vortrag per E-Mail zu erhalten.\nRegister here to receive the invitation to this talk via E-Mail. \nZoom-Meeting-ID: 938 2177 1317\nPasswort: 083549
URL:https://blog.rwth-aachen.de/akustik/event/klein-praxissemester-bei-mueller-bbm/
LOCATION:Zoom-Meeting
CATEGORIES:Vortrag Praxissemester
END:VEVENT
END:VCALENDAR