BEGIN:VCALENDAR
VERSION:2.0
PRODID:-//Akustik-Blog - ECPv6.15.20//NONSGML v1.0//EN
CALSCALE:GREGORIAN
METHOD:PUBLISH
X-WR-CALNAME:Akustik-Blog
X-ORIGINAL-URL:https://blog.rwth-aachen.de/akustik
X-WR-CALDESC:Veranstaltungen für Akustik-Blog
REFRESH-INTERVAL;VALUE=DURATION:PT1H
X-Robots-Tag:noindex
X-PUBLISHED-TTL:PT1H
BEGIN:VTIMEZONE
TZID:Europe/Berlin
BEGIN:DAYLIGHT
TZOFFSETFROM:+0100
TZOFFSETTO:+0200
TZNAME:CEST
DTSTART:20200329T010000
END:DAYLIGHT
BEGIN:STANDARD
TZOFFSETFROM:+0200
TZOFFSETTO:+0100
TZNAME:CET
DTSTART:20201025T010000
END:STANDARD
BEGIN:DAYLIGHT
TZOFFSETFROM:+0100
TZOFFSETTO:+0200
TZNAME:CEST
DTSTART:20210328T010000
END:DAYLIGHT
BEGIN:STANDARD
TZOFFSETFROM:+0200
TZOFFSETTO:+0100
TZNAME:CET
DTSTART:20211031T010000
END:STANDARD
BEGIN:DAYLIGHT
TZOFFSETFROM:+0100
TZOFFSETTO:+0200
TZNAME:CEST
DTSTART:20220327T010000
END:DAYLIGHT
BEGIN:STANDARD
TZOFFSETFROM:+0200
TZOFFSETTO:+0100
TZNAME:CET
DTSTART:20221030T010000
END:STANDARD
END:VTIMEZONE
BEGIN:VEVENT
DTSTART;TZID=Europe/Berlin:20210520T113000
DTEND;TZID=Europe/Berlin:20210520T120000
DTSTAMP:20260425T215451
CREATED:20210422T080749Z
LAST-MODIFIED:20210515T134926Z
UID:1337-1621510200-1621512000@blog.rwth-aachen.de
SUMMARY:Rummler: Comparison of Multi-Exponential Decay Constant Estimation Methods
DESCRIPTION:The measurement of the absorption coefficient in reverberation chambers according to the international standard ISO-354 shows a poor reproducibility between laboratories. One reason is the non-uniform distribution of absorption due to the placement of the test object. This causes shorter decay times for modes with oblique and perpendicular incidence on the absorber. Modes propagating parallel to the floor are less dampened by the absorber and will lead to longer decay times. Only the shorter decay times of this multi-exponential decay allow precise conclusions about the material.  \nThis study investigates the sound field decay of a simplified measurement setup in a reverberation chamber. The computations rely on the analytic model by Nolan and Davy using the principle of modal superposition to obtain room impulse responses for multiple receiver positions. The decay times of all modes contributing to the respective frequency range are derived as a reference from the analytic model. Three different approaches on decay time estimation are evaluated in respect to their initial decay time approximation and their sensitivity to noise. The linear approximation according to ISO-3382 and two fitting algorithms for a multi-exponential model are chosen. One multi-exponential fitting method is based on the principle of least squares whereas the other uses Bayesian statistics to estimate the decay times. The results indicate that the estimation based on Bayesian statistics reliably determines the order of the multi-exponential decay and its reverberation times. \nMelden Sie sich hier an um die Einladung zu dem Vortrag per E-Mail zu erhalten.\nRegister here to receive the invitation to this talk via E-Mail. \nZoom-Meeting-ID: 921 8678 4066\nPasswort: 728288
URL:https://blog.rwth-aachen.de/akustik/event/rummler-comparison-of-multi-exponential-decay-constant-estimation-methods/
LOCATION:Zoom-Meeting
CATEGORIES:Verteidigung Bachelorarbeit
END:VEVENT
END:VCALENDAR