BEGIN:VCALENDAR
VERSION:2.0
PRODID:-//Akustik-Blog - ECPv6.15.20//NONSGML v1.0//EN
CALSCALE:GREGORIAN
METHOD:PUBLISH
X-WR-CALNAME:Akustik-Blog
X-ORIGINAL-URL:https://blog.rwth-aachen.de/akustik
X-WR-CALDESC:Veranstaltungen für Akustik-Blog
REFRESH-INTERVAL;VALUE=DURATION:PT1H
X-Robots-Tag:noindex
X-PUBLISHED-TTL:PT1H
BEGIN:VTIMEZONE
TZID:Europe/Berlin
BEGIN:DAYLIGHT
TZOFFSETFROM:+0100
TZOFFSETTO:+0200
TZNAME:CEST
DTSTART:20200329T010000
END:DAYLIGHT
BEGIN:STANDARD
TZOFFSETFROM:+0200
TZOFFSETTO:+0100
TZNAME:CET
DTSTART:20201025T010000
END:STANDARD
BEGIN:DAYLIGHT
TZOFFSETFROM:+0100
TZOFFSETTO:+0200
TZNAME:CEST
DTSTART:20210328T010000
END:DAYLIGHT
BEGIN:STANDARD
TZOFFSETFROM:+0200
TZOFFSETTO:+0100
TZNAME:CET
DTSTART:20211031T010000
END:STANDARD
BEGIN:DAYLIGHT
TZOFFSETFROM:+0100
TZOFFSETTO:+0200
TZNAME:CEST
DTSTART:20220327T010000
END:DAYLIGHT
BEGIN:STANDARD
TZOFFSETFROM:+0200
TZOFFSETTO:+0100
TZNAME:CET
DTSTART:20221030T010000
END:STANDARD
END:VTIMEZONE
BEGIN:VEVENT
DTSTART;TZID=Europe/Berlin:20210611T110000
DTEND;TZID=Europe/Berlin:20210611T113000
DTSTAMP:20260425T212801
CREATED:20210610T101612Z
LAST-MODIFIED:20210610T113653Z
UID:1537-1623409200-1623411000@blog.rwth-aachen.de
SUMMARY:Schäfer: Ray tracing for efficient simulation of curved sound propagation paths: Towards real-time auralization of aircraft noise
DESCRIPTION:Thanks to modern auralization methods\, simulated aircraft flyovers can be experienced in virtual environments. Listening to such an auralization provides a more sophisticated impression of annoyance of aircraft noise in real scenarios than reading averaged sound pressure levels or noise maps. For proper auralization results\, translation and refraction due to wind and to inhomogeneity of the atmosphere should be taken into account\, which leads to curved sound propagation paths. However\, state of the art auralization tools including these effects do not allow real-time simulations on CPUs. In this work\, an efficient ray tracing tool for simulating curved propagation paths between an aircraft and a listener is introduced. The performance and limitations are discussed for a typical aircraft trajectory. The benchmark results suggest that real-time auralization of aircraft noise using ray tracing is possible if the processing of propagation paths in the overlying auralization framework is extended accordingly. \nMelden Sie sich hier an um die Einladung zu dem Vortrag per E-Mail zu erhalten.\nRegister here to receive the invitation to this talk via E-Mail. \nZoom-Meeting-ID: 979 5699 3657\nPasswort: 070750
URL:https://blog.rwth-aachen.de/akustik/event/schaefer-ray-tracing-for-efficient-simulation-of-curved-sound-propagation-paths-towards-real-time-auralization-of-aircraft-noise/
LOCATION:Zoom-Meeting
CATEGORIES:Vortrag
END:VEVENT
END:VCALENDAR