BEGIN:VCALENDAR
VERSION:2.0
PRODID:-//Akustik-Blog - ECPv6.15.20//NONSGML v1.0//EN
CALSCALE:GREGORIAN
METHOD:PUBLISH
X-WR-CALNAME:Akustik-Blog
X-ORIGINAL-URL:https://blog.rwth-aachen.de/akustik
X-WR-CALDESC:Veranstaltungen für Akustik-Blog
REFRESH-INTERVAL;VALUE=DURATION:PT1H
X-Robots-Tag:noindex
X-PUBLISHED-TTL:PT1H
BEGIN:VTIMEZONE
TZID:Europe/Berlin
BEGIN:DAYLIGHT
TZOFFSETFROM:+0100
TZOFFSETTO:+0200
TZNAME:CEST
DTSTART:20200329T010000
END:DAYLIGHT
BEGIN:STANDARD
TZOFFSETFROM:+0200
TZOFFSETTO:+0100
TZNAME:CET
DTSTART:20201025T010000
END:STANDARD
BEGIN:DAYLIGHT
TZOFFSETFROM:+0100
TZOFFSETTO:+0200
TZNAME:CEST
DTSTART:20210328T010000
END:DAYLIGHT
BEGIN:STANDARD
TZOFFSETFROM:+0200
TZOFFSETTO:+0100
TZNAME:CET
DTSTART:20211031T010000
END:STANDARD
BEGIN:DAYLIGHT
TZOFFSETFROM:+0100
TZOFFSETTO:+0200
TZNAME:CEST
DTSTART:20220327T010000
END:DAYLIGHT
BEGIN:STANDARD
TZOFFSETFROM:+0200
TZOFFSETTO:+0100
TZNAME:CET
DTSTART:20221030T010000
END:STANDARD
END:VTIMEZONE
BEGIN:VEVENT
DTSTART;TZID=Europe/Berlin:20210625T110000
DTEND;TZID=Europe/Berlin:20210625T120000
DTSTAMP:20260426T022648
CREATED:20210518T173534Z
LAST-MODIFIED:20210620T094957Z
UID:1475-1624618800-1624622400@blog.rwth-aachen.de
SUMMARY:Glosauer: Evaluation of suitable parameters for describing heart rate variability with respect to auditory selective attention switches
DESCRIPTION:Noise can cause stress\, which leads to measurable physical reactions as well as it can impair intentional switching of auditory selective attention (ASA). In children\, this can reduce the learning progress and thus disturb their development. The relation of measurable physical stress reactions and intentional switching of ASA is investigated in current research with the goal of enhancing the assessment of intentional switching of ASA. Especially interesting are unobtrusive and mobile measuring methods. Unobtrusiveness reduces unwanted side effects on ASA by the measuring method itself and mobility increases the number of possible applications. The listening experiment\, presented in this talk\, evaluates the prediction of intentional switching of ASA under noisy conditions through different heart rate variability (HRV) parameters as physical measures. \nMelden Sie sich hier an um die Einladung zu dem Vortrag per E-Mail zu erhalten.\nRegister here to receive the invitation to this talk via E-Mail. \nZoom-Meeting-ID: 915 3925 3197\nPasswort: 756756
URL:https://blog.rwth-aachen.de/akustik/event/glosauer-msc/
LOCATION:Zoom-Meeting
CATEGORIES:Verteidigung Masterarbeit
END:VEVENT
END:VCALENDAR