BEGIN:VCALENDAR
VERSION:2.0
PRODID:-//Akustik-Blog - ECPv6.15.20//NONSGML v1.0//EN
CALSCALE:GREGORIAN
METHOD:PUBLISH
X-WR-CALNAME:Akustik-Blog
X-ORIGINAL-URL:https://blog.rwth-aachen.de/akustik
X-WR-CALDESC:Veranstaltungen für Akustik-Blog
REFRESH-INTERVAL;VALUE=DURATION:PT1H
X-Robots-Tag:noindex
X-PUBLISHED-TTL:PT1H
BEGIN:VTIMEZONE
TZID:Europe/Berlin
BEGIN:DAYLIGHT
TZOFFSETFROM:+0100
TZOFFSETTO:+0200
TZNAME:CEST
DTSTART:20200329T010000
END:DAYLIGHT
BEGIN:STANDARD
TZOFFSETFROM:+0200
TZOFFSETTO:+0100
TZNAME:CET
DTSTART:20201025T010000
END:STANDARD
BEGIN:DAYLIGHT
TZOFFSETFROM:+0100
TZOFFSETTO:+0200
TZNAME:CEST
DTSTART:20210328T010000
END:DAYLIGHT
BEGIN:STANDARD
TZOFFSETFROM:+0200
TZOFFSETTO:+0100
TZNAME:CET
DTSTART:20211031T010000
END:STANDARD
BEGIN:DAYLIGHT
TZOFFSETFROM:+0100
TZOFFSETTO:+0200
TZNAME:CEST
DTSTART:20220327T010000
END:DAYLIGHT
BEGIN:STANDARD
TZOFFSETFROM:+0200
TZOFFSETTO:+0100
TZNAME:CET
DTSTART:20221030T010000
END:STANDARD
END:VTIMEZONE
BEGIN:VEVENT
DTSTART;TZID=Europe/Berlin:20211022T110000
DTEND;TZID=Europe/Berlin:20211022T113000
DTSTAMP:20260426T022656
CREATED:20210916T140855Z
LAST-MODIFIED:20211015T160157Z
UID:1691-1634900400-1634902200@blog.rwth-aachen.de
SUMMARY:Hahn: Dynamic synthesis of passenger car pass-by sounds
DESCRIPTION:Progress in the field of computer-based calculation and simulation of sound fields and acoustic propagation effects enable numerous new applications for auralisation\, e.g. design of cities and buildings\, noise reduction and machine learning. In addition to the consideration of audible propagation effects a realistic synthesis of the source signal is essential for the generation of an aural impression that is close to reality. In this thesis a digital synthesizer for the generation of passenger car pass-by sounds is presented\, which has been implemented in C++. The synthesis follows a real-time capable procedural approach based on a physical model of the engine and the exhaust system utilizing digital waveguides. Additionally\, directional properties of the sound emission are modelled using invers filtering of acoustic propagation effects in the recordings of conducted passenger car pass-by measurements. Next to the synthesis of sounds created by processes inside the engine the synthesizer includes a functionality for the generation of tyre noise. This is achieved by filtering white noise in the frequency domain based on the results of the measurements. The synthesized passenger car pass-by sounds are analysed and compared to the spectrum of a real passenger car. Also\, the CPU usage of the synthesizer is evaluated. \nMelden Sie sich hier an um die Einladung zu dem Vortrag per E-Mail zu erhalten.\nRegister here to receive the invitation to this talk via E-Mail. \nZoom-Meeting-ID: 910 0030 1035\nPasswort: 980455
URL:https://blog.rwth-aachen.de/akustik/event/hahn-dynamic-synthesis-of-passenger-car-pass-by-sounds/
LOCATION:Zoom-Meeting
CATEGORIES:Verteidigung Bachelorarbeit
END:VEVENT
END:VCALENDAR