BEGIN:VCALENDAR
VERSION:2.0
PRODID:-//Akustik-Blog - ECPv6.15.20//NONSGML v1.0//EN
CALSCALE:GREGORIAN
METHOD:PUBLISH
X-WR-CALNAME:Akustik-Blog
X-ORIGINAL-URL:https://blog.rwth-aachen.de/akustik
X-WR-CALDESC:Veranstaltungen für Akustik-Blog
REFRESH-INTERVAL;VALUE=DURATION:PT1H
X-Robots-Tag:noindex
X-PUBLISHED-TTL:PT1H
BEGIN:VTIMEZONE
TZID:Europe/Berlin
BEGIN:DAYLIGHT
TZOFFSETFROM:+0100
TZOFFSETTO:+0200
TZNAME:CEST
DTSTART:20210328T010000
END:DAYLIGHT
BEGIN:STANDARD
TZOFFSETFROM:+0200
TZOFFSETTO:+0100
TZNAME:CET
DTSTART:20211031T010000
END:STANDARD
BEGIN:DAYLIGHT
TZOFFSETFROM:+0100
TZOFFSETTO:+0200
TZNAME:CEST
DTSTART:20220327T010000
END:DAYLIGHT
BEGIN:STANDARD
TZOFFSETFROM:+0200
TZOFFSETTO:+0100
TZNAME:CET
DTSTART:20221030T010000
END:STANDARD
BEGIN:DAYLIGHT
TZOFFSETFROM:+0100
TZOFFSETTO:+0200
TZNAME:CEST
DTSTART:20230326T010000
END:DAYLIGHT
BEGIN:STANDARD
TZOFFSETFROM:+0200
TZOFFSETTO:+0100
TZNAME:CET
DTSTART:20231029T010000
END:STANDARD
END:VTIMEZONE
BEGIN:VEVENT
DTSTART;TZID=Europe/Berlin:20220114T110000
DTEND;TZID=Europe/Berlin:20220114T120000
DTSTAMP:20260426T032106
CREATED:20220107T085907Z
LAST-MODIFIED:20220107T085907Z
UID:1324-1642158000-1642161600@blog.rwth-aachen.de
SUMMARY:Lachenmayr: Applied room acoustics - How to build a concert hall
DESCRIPTION:The building of a concert hall is a process of many aspects and stages – some of which have to do with acoustics. In this talk we will share insights from Müller-BBMs’ extensive experience in the topic by means of a project case study: Musikzentrum Bochum. The various acoustic planning stages within a given project framework are explained and the process up to a new cultural complex with an excellent symphonic hall is followed. With the aid of acoustic planning tools such as parametric design and measurement tools such as model absorption tests we increase the degree of detail and quality step by step. Finally\, inauguration day reveals the acoustic achievements. Listening\, measuring\, assisting the performers and some politics are key components here. The talk concludes with playback of in situ audio recordings and the question “How will you help to shape the future concert hall?”. \nMelden Sie sich hier an um die Einladung zu dem Vortrag per E-Mail zu erhalten.\nRegister here to receive the invitation to this talk via E-Mail. \nZoom-Meeting-ID: 958 1243 7205\nPasswort: 533726
URL:https://blog.rwth-aachen.de/akustik/event/lachenmayr-applied-room-acoustics-how-to-build-a-concert-hall/
LOCATION:Zoom-Meeting
CATEGORIES:Vortrag
END:VEVENT
END:VCALENDAR