BEGIN:VCALENDAR
VERSION:2.0
PRODID:-//Akustik-Blog - ECPv6.15.20//NONSGML v1.0//EN
CALSCALE:GREGORIAN
METHOD:PUBLISH
X-WR-CALNAME:Akustik-Blog
X-ORIGINAL-URL:https://blog.rwth-aachen.de/akustik
X-WR-CALDESC:Veranstaltungen für Akustik-Blog
REFRESH-INTERVAL;VALUE=DURATION:PT1H
X-Robots-Tag:noindex
X-PUBLISHED-TTL:PT1H
BEGIN:VTIMEZONE
TZID:Europe/Berlin
BEGIN:DAYLIGHT
TZOFFSETFROM:+0100
TZOFFSETTO:+0200
TZNAME:CEST
DTSTART:20210328T010000
END:DAYLIGHT
BEGIN:STANDARD
TZOFFSETFROM:+0200
TZOFFSETTO:+0100
TZNAME:CET
DTSTART:20211031T010000
END:STANDARD
BEGIN:DAYLIGHT
TZOFFSETFROM:+0100
TZOFFSETTO:+0200
TZNAME:CEST
DTSTART:20220327T010000
END:DAYLIGHT
BEGIN:STANDARD
TZOFFSETFROM:+0200
TZOFFSETTO:+0100
TZNAME:CET
DTSTART:20221030T010000
END:STANDARD
BEGIN:DAYLIGHT
TZOFFSETFROM:+0100
TZOFFSETTO:+0200
TZNAME:CEST
DTSTART:20230326T010000
END:DAYLIGHT
BEGIN:STANDARD
TZOFFSETFROM:+0200
TZOFFSETTO:+0100
TZNAME:CET
DTSTART:20231029T010000
END:STANDARD
END:VTIMEZONE
BEGIN:VEVENT
DTSTART;TZID=Europe/Berlin:20220121T110000
DTEND;TZID=Europe/Berlin:20220121T120000
DTSTAMP:20260426T060423
CREATED:20211125T091421Z
LAST-MODIFIED:20211229T150826Z
UID:1826-1642762800-1642766400@blog.rwth-aachen.de
SUMMARY:Witew: Measurements in room acoustics - Uncertainties and influence of the measurement position
DESCRIPTION:Regardless of the field\, measurements are essential for the validation of theories and for making well-founded decisions. A criterion for the validity and comparability of measured values is their uncertainty. The „Guide to the Expression of Uncertainty in Measurement“ (GUM) provides a standardized framework for determining and interpreting measurement uncertainty. In room acoustic measurements\, the application of these rules is not yet widespread. On the one hand\, this is due to the fact that well established 2-CH-FFT correlation techniques rely on a complex principle\, which is not covered by the classical guide. In addition\, the effect of input variables on a measurement can only be determined in individual cases after considerable effort. An example are fluctuations of room acoustic quantities over smallest distances between measurement locations in concert halls. This change of the sound field over the location is sometimes considerable and can only be predicted in relatively simple boundary value problems. This raises the question of the validity and interpretability of room acoustics measurements. \nThe goal of this thesis is to provide a GUM-compliant discussion of uncertainties in measuring room acoustic single-number quantities. This starts with a structured search of variables that potentially influence the measurement of room impulse responses. In a second step\, this uncertainty is propagated through the algorithm for determining room acoustic single-number quantities. \nFurther emphasis is placed on the investigation of spatial fluctuations of the sound field in auditoria. The influence of an uncertain measurement position on the overall measurement uncertainty is discussed. To reach general conclusions\, the relation between changes in the measurement location and the corresponding changes in room acoustics quantities is investigated empirically in extensive measurement series. To this purpose\, a measurement apparatus was designed that allows automatic\, high-resolution sampling of sound fields over large areas. The collected data sets the foundation to propagate the uncertainty using a Monte Carlo method. \nThis study shows how precisely a measurement position must be defined to ensure a given uncertainty of room acoustical single-number quantities. The presented methods form a foundation that can be flexibly extended in future investigations to include additional influences on the measurement uncertainty. \nMelden Sie sich hier an um die Einladung zu dem Vortrag per E-Mail zu erhalten.\nRegister here to receive the invitation to this talk via E-Mail. \nZoom-Meeting-ID: 988 8623 3992\nPasswort: 804114
URL:https://blog.rwth-aachen.de/akustik/event/witew-measurements-room-acoustics/
LOCATION:IHTA Seminarraum (60 Persons) and Zoom-Meeting (Hybrid)\, Kopernikusstr. 5\, Aachen\, 52074\, Deutschland
CATEGORIES:Verteidigung Dissertation
END:VEVENT
END:VCALENDAR