BEGIN:VCALENDAR
VERSION:2.0
PRODID:-//Akustik-Blog - ECPv6.15.20//NONSGML v1.0//EN
CALSCALE:GREGORIAN
METHOD:PUBLISH
X-WR-CALNAME:Akustik-Blog
X-ORIGINAL-URL:https://blog.rwth-aachen.de/akustik
X-WR-CALDESC:Veranstaltungen für Akustik-Blog
REFRESH-INTERVAL;VALUE=DURATION:PT1H
X-Robots-Tag:noindex
X-PUBLISHED-TTL:PT1H
BEGIN:VTIMEZONE
TZID:Europe/Berlin
BEGIN:DAYLIGHT
TZOFFSETFROM:+0100
TZOFFSETTO:+0200
TZNAME:CEST
DTSTART:20210328T010000
END:DAYLIGHT
BEGIN:STANDARD
TZOFFSETFROM:+0200
TZOFFSETTO:+0100
TZNAME:CET
DTSTART:20211031T010000
END:STANDARD
BEGIN:DAYLIGHT
TZOFFSETFROM:+0100
TZOFFSETTO:+0200
TZNAME:CEST
DTSTART:20220327T010000
END:DAYLIGHT
BEGIN:STANDARD
TZOFFSETFROM:+0200
TZOFFSETTO:+0100
TZNAME:CET
DTSTART:20221030T010000
END:STANDARD
BEGIN:DAYLIGHT
TZOFFSETFROM:+0100
TZOFFSETTO:+0200
TZNAME:CEST
DTSTART:20230326T010000
END:DAYLIGHT
BEGIN:STANDARD
TZOFFSETFROM:+0200
TZOFFSETTO:+0100
TZNAME:CET
DTSTART:20231029T010000
END:STANDARD
END:VTIMEZONE
BEGIN:VEVENT
DTSTART;TZID=Europe/Berlin:20220401T110000
DTEND;TZID=Europe/Berlin:20220401T120000
DTSTAMP:20260426T060414
CREATED:20220329T051211Z
LAST-MODIFIED:20220329T051523Z
UID:1857-1648810800-1648814400@blog.rwth-aachen.de
SUMMARY:Burger: Modulating Serial Recall Performance By Audiovisual Target Discrepancies
DESCRIPTION:People perceive most events with several senses at the same time. In everyday life\, these different sensations coincide in time and space to form one coherent percept. However\, in online conferencing\, which has become an increasingly popular mean of communication\, there may be a temporal and/or spatial mismatch between visual and auditory input\, e.g.\, due to delays in transmission. In this work\, the effect of such temporal stimulus onset asynchronies (SOAs) on short-term memory (STM) is investigated. For this purpose\, a test based on an audiovisual serial recall (aVSR) paradigm is developed. The digits from one to nine are presented to the participants auditorily\, visually\, or audiovisually with SOAs between -400ms and 400ms. Subsequently\, the digits had to be recalled in the same order in which they were presented. Firstly\, it is tested how recall performance is affected by the presentation modes\, i.e.\, visual only\, audio only\, or audiovisual (AV) presentation. Secondly\, it is investigated how the performance in the serial recall is influenced by the SOAs mentioned above. No effect was observed for the experimental variations\, neither for the modality of presentation nor for the SOAs. The most likely reason for this is that the digits are too abstract as stimuli and thus no AV benefit\, i.e.\, an improvement in performance compared to unimodal presentation\, could be observed. Additionally\, AV integration is not necessary to remember the digits\, as both unisensory modalities seem to evoke complete representations in memory. Suggestions for changes to the stimuli and to the paradigm are presented and discussed. \nMelden Sie sich hier an um Einladungen zu den Kolloquium-Vorträgen per E-Mail zu erhalten.\nRegister here to receive the invitations to colloquium talks via e-mail. \nZoom-Meeting-ID: 953 2723 1799\nPasswort: 013442
URL:https://blog.rwth-aachen.de/akustik/event/burger-modulating-serial-recall-performance-by-audiovisual-target-discrepancies/
LOCATION:IHTA Seminarraum (60 Persons) and Zoom-Meeting (Hybrid)\, Kopernikusstr. 5\, Aachen\, 52074\, Deutschland
CATEGORIES:Verteidigung Masterarbeit
END:VEVENT
END:VCALENDAR