BEGIN:VCALENDAR
VERSION:2.0
PRODID:-//Akustik-Blog - ECPv6.15.20//NONSGML v1.0//EN
CALSCALE:GREGORIAN
METHOD:PUBLISH
X-WR-CALNAME:Akustik-Blog
X-ORIGINAL-URL:https://blog.rwth-aachen.de/akustik
X-WR-CALDESC:Veranstaltungen für Akustik-Blog
REFRESH-INTERVAL;VALUE=DURATION:PT1H
X-Robots-Tag:noindex
X-PUBLISHED-TTL:PT1H
BEGIN:VTIMEZONE
TZID:Europe/Berlin
BEGIN:DAYLIGHT
TZOFFSETFROM:+0100
TZOFFSETTO:+0200
TZNAME:CEST
DTSTART:20220327T010000
END:DAYLIGHT
BEGIN:STANDARD
TZOFFSETFROM:+0200
TZOFFSETTO:+0100
TZNAME:CET
DTSTART:20221030T010000
END:STANDARD
BEGIN:DAYLIGHT
TZOFFSETFROM:+0100
TZOFFSETTO:+0200
TZNAME:CEST
DTSTART:20230326T010000
END:DAYLIGHT
BEGIN:STANDARD
TZOFFSETFROM:+0200
TZOFFSETTO:+0100
TZNAME:CET
DTSTART:20231029T010000
END:STANDARD
BEGIN:DAYLIGHT
TZOFFSETFROM:+0100
TZOFFSETTO:+0200
TZNAME:CEST
DTSTART:20240331T010000
END:DAYLIGHT
BEGIN:STANDARD
TZOFFSETFROM:+0200
TZOFFSETTO:+0100
TZNAME:CET
DTSTART:20241027T010000
END:STANDARD
END:VTIMEZONE
BEGIN:VEVENT
DTSTART;TZID=Europe/Berlin:20230303T110000
DTEND;TZID=Europe/Berlin:20230303T120000
DTSTAMP:20260425T184734
CREATED:20230224T183945Z
LAST-MODIFIED:20230224T183945Z
UID:2470-1677841200-1677844800@blog.rwth-aachen.de
SUMMARY:Ji: Extending a paradigm on the intentional switching of auditory selective attention towards complex stimuli
DESCRIPTION:Auditory selective attention (ASA) refers to the mental ability to resist distractors and to focus on a specific sound in a complex acoustic environment. Revealing the factors that affect people’s ASA can help to improve student’s learning environment. Thus\, studies have been conducted both in real life and virtual reality (VR) environments. This study aimed to make a further step to the real life\, thus short acoustic stimuli used by a previous study were extend to complex acoustic stimuli\, and the impact of different variables on the ASA of the participants were analyzed. The complex stimuli both for targets and distractors were spoken sentences with animal names as focus word in different position in the sentences. The experiment was conducted in a VR environment\, and 20 adults participated in the experiment. The results showed that the position of the focus word in the target stimulus had a significant effect on the reaction time\, while the impact of the distractor on the reaction times or error rates was not significant; however there was a trend to longer reaction times and lower error rates when the focus word in the distractor appeared later than in the target stimulus. This study proved that it is feasible to conduct an ASA experiment in a virtual reality classroom with complex stimuli. \nMelden Sie sich hier an um Einladungen zu den Kolloquium-Vorträgen per E-Mail zu erhalten.\nRegister here to receive the invitations to colloquium talks via e-mail. \nZoom-Meeting-ID: 954 4073 3814\nPasswort: 450783
URL:https://blog.rwth-aachen.de/akustik/event/ji-extending-a-paradigm-on-the-intentional-switching-of-auditory-selective-attention-towards-complex-stimuli/
LOCATION:IHTA Seminarraum (60 Persons) and Zoom-Meeting (Hybrid)\, Kopernikusstr. 5\, Aachen\, 52074\, Deutschland
CATEGORIES:Verteidigung Bachelorarbeit
END:VEVENT
END:VCALENDAR