BEGIN:VCALENDAR
VERSION:2.0
PRODID:-//Akustik-Blog - ECPv6.15.20//NONSGML v1.0//EN
CALSCALE:GREGORIAN
METHOD:PUBLISH
X-WR-CALNAME:Akustik-Blog
X-ORIGINAL-URL:https://blog.rwth-aachen.de/akustik
X-WR-CALDESC:Veranstaltungen für Akustik-Blog
REFRESH-INTERVAL;VALUE=DURATION:PT1H
X-Robots-Tag:noindex
X-PUBLISHED-TTL:PT1H
BEGIN:VTIMEZONE
TZID:Europe/Berlin
BEGIN:DAYLIGHT
TZOFFSETFROM:+0100
TZOFFSETTO:+0200
TZNAME:CEST
DTSTART:20220327T010000
END:DAYLIGHT
BEGIN:STANDARD
TZOFFSETFROM:+0200
TZOFFSETTO:+0100
TZNAME:CET
DTSTART:20221030T010000
END:STANDARD
BEGIN:DAYLIGHT
TZOFFSETFROM:+0100
TZOFFSETTO:+0200
TZNAME:CEST
DTSTART:20230326T010000
END:DAYLIGHT
BEGIN:STANDARD
TZOFFSETFROM:+0200
TZOFFSETTO:+0100
TZNAME:CET
DTSTART:20231029T010000
END:STANDARD
BEGIN:DAYLIGHT
TZOFFSETFROM:+0100
TZOFFSETTO:+0200
TZNAME:CEST
DTSTART:20240331T010000
END:DAYLIGHT
BEGIN:STANDARD
TZOFFSETFROM:+0200
TZOFFSETTO:+0100
TZNAME:CET
DTSTART:20241027T010000
END:STANDARD
END:VTIMEZONE
BEGIN:VEVENT
DTSTART;TZID=Europe/Berlin:20230324T110000
DTEND;TZID=Europe/Berlin:20230324T120000
DTSTAMP:20260425T182424
CREATED:20230314T091108Z
LAST-MODIFIED:20230314T091108Z
UID:2465-1679655600-1679659200@blog.rwth-aachen.de
SUMMARY:Akdag: Psychoacoustic Effects of Air Diffuser Noises at the Same Loudness Level
DESCRIPTION:This study investigates the impact of air diffuser noise on human well-being\, which is relevant due to its widespread use in residential and commercial buildings. The objective is to determine the types of air diffusers that produce the most pleasant noise by conducting a pairwise comparison listening experiment with 32 participants. Seven stimuli were recorded using five different air diffusers at three different air volume flows. The A-weighted sound power level is limited as it only assesses the physical aspects of sound and disregards the subjective perception of noise\, which makes it unable to accurately measure the annoyance and acceptance of the systems under investigation. Psychoacoustic characteristics\, such as loudness\, play a significant role in determining the pleasantness of stimuli. However\, in this study\, the influence of loudness was eliminated to allow participants to be influenced by other characteristics of the stimuli. To achieve this\, loudness of the stimuli were equalized across different volume flows. The results show that preferences for air diffusers varied based on volume flows\, and according to participants’ responses\, perceived annoyance was influenced by comparisons with familiar noises and imagined environments\, alongside personal experiences and sensitivity levels. The findings suggest that there is potential for further investigation into the impact of both sensory and non-sensory factors on perceived annoyance. The study’s findings highlight the importance of considering both the technical specifications and acoustic properties of air diffusers when selecting them for indoor installations. This has practical implications for air diffuser design\, operation\, and the development of noise regulations and guidelines for ventilation system design and installation. \nMelden Sie sich hier an um Einladungen zu den Kolloquium-Vorträgen per E-Mail zu erhalten.\nRegister here to receive the invitations to colloquium talks via e-mail. \nZoom-Meeting-ID: 954 4073 3814\nPasswort: 450783
URL:https://blog.rwth-aachen.de/akustik/event/akdag-psychoacoustic-effects-of-air-diffuser-noises-at-the-same-loudness-level/
LOCATION:IHTA Seminarraum (60 Persons) and Zoom-Meeting (Hybrid)\, Kopernikusstr. 5\, Aachen\, 52074\, Deutschland
CATEGORIES:Verteidigung Bachelorarbeit
END:VEVENT
END:VCALENDAR