BEGIN:VCALENDAR
VERSION:2.0
PRODID:-//Akustik-Blog - ECPv6.15.20//NONSGML v1.0//EN
CALSCALE:GREGORIAN
METHOD:PUBLISH
X-WR-CALNAME:Akustik-Blog
X-ORIGINAL-URL:https://blog.rwth-aachen.de/akustik
X-WR-CALDESC:Veranstaltungen für Akustik-Blog
REFRESH-INTERVAL;VALUE=DURATION:PT1H
X-Robots-Tag:noindex
X-PUBLISHED-TTL:PT1H
BEGIN:VTIMEZONE
TZID:Europe/Berlin
BEGIN:DAYLIGHT
TZOFFSETFROM:+0100
TZOFFSETTO:+0200
TZNAME:CEST
DTSTART:20220327T010000
END:DAYLIGHT
BEGIN:STANDARD
TZOFFSETFROM:+0200
TZOFFSETTO:+0100
TZNAME:CET
DTSTART:20221030T010000
END:STANDARD
BEGIN:DAYLIGHT
TZOFFSETFROM:+0100
TZOFFSETTO:+0200
TZNAME:CEST
DTSTART:20230326T010000
END:DAYLIGHT
BEGIN:STANDARD
TZOFFSETFROM:+0200
TZOFFSETTO:+0100
TZNAME:CET
DTSTART:20231029T010000
END:STANDARD
BEGIN:DAYLIGHT
TZOFFSETFROM:+0100
TZOFFSETTO:+0200
TZNAME:CEST
DTSTART:20240331T010000
END:DAYLIGHT
BEGIN:STANDARD
TZOFFSETFROM:+0200
TZOFFSETTO:+0100
TZNAME:CET
DTSTART:20241027T010000
END:STANDARD
END:VTIMEZONE
BEGIN:VEVENT
DTSTART;TZID=Europe/Berlin:20230714T110000
DTEND;TZID=Europe/Berlin:20230714T113000
DTSTAMP:20260425T210157
CREATED:20230628T170852Z
LAST-MODIFIED:20230628T170852Z
UID:2677-1689332400-1689334200@blog.rwth-aachen.de
SUMMARY:Li: Geometry reduction of acoustic models
DESCRIPTION:Audio-visual experiences of modeled spaces play a key role when studying the human perception of the built environment\, and the results should give us an intuitive sense of the real situation. Acoustic models need a low number of polygons in order to be simulated efficiently. It is at the same time important to retain acoustic properties while simplification. But the reconstruction of existing architecture is usually achieved by photogrammetry\, which results in noisy and geometrically complex 3D meshes. They must be post-processed to become suitable for simulation. \nIn this thesis\, a mesh-filtering algorithm is analyzed that follows a feature-preserving approach. This is expected to be an important step before the mesh’s number of polygons can be reduced. The algorithm has been implemented in Matlab. Two models serve as test scenarios\, i.e. a photogrammetry mesh of the Eurogress hall in Aachen and a generic simple room. To evaluate the algorithm’s performance\, first\, the change of geometrical shapes is inspected by means of the number of iterations and selected filter weights. Secondly\, geometrical acoustic simulation is performed to analyze the filter’s impact on the acoustic simulation result. \nMelden Sie sich hier an um Einladungen zu den Kolloquium-Vorträgen per E-Mail zu erhalten.\nRegister here to receive the invitations to colloquium talks via e-mail.
URL:https://blog.rwth-aachen.de/akustik/event/li-geometry-reduction-of-acoustic-models/
LOCATION:IHTA Seminarraum (60 Personen)\, Kopernikusstrasse 5\, Aachen\, 52074
CATEGORIES:Verteidigung Bachelorarbeit
END:VEVENT
END:VCALENDAR