BEGIN:VCALENDAR
VERSION:2.0
PRODID:-//Akustik-Blog - ECPv6.15.20//NONSGML v1.0//EN
CALSCALE:GREGORIAN
METHOD:PUBLISH
X-WR-CALNAME:Akustik-Blog
X-ORIGINAL-URL:https://blog.rwth-aachen.de/akustik
X-WR-CALDESC:Veranstaltungen für Akustik-Blog
REFRESH-INTERVAL;VALUE=DURATION:PT1H
X-Robots-Tag:noindex
X-PUBLISHED-TTL:PT1H
BEGIN:VTIMEZONE
TZID:Europe/Berlin
BEGIN:DAYLIGHT
TZOFFSETFROM:+0100
TZOFFSETTO:+0200
TZNAME:CEST
DTSTART:20230326T010000
END:DAYLIGHT
BEGIN:STANDARD
TZOFFSETFROM:+0200
TZOFFSETTO:+0100
TZNAME:CET
DTSTART:20231029T010000
END:STANDARD
BEGIN:DAYLIGHT
TZOFFSETFROM:+0100
TZOFFSETTO:+0200
TZNAME:CEST
DTSTART:20240331T010000
END:DAYLIGHT
BEGIN:STANDARD
TZOFFSETFROM:+0200
TZOFFSETTO:+0100
TZNAME:CET
DTSTART:20241027T010000
END:STANDARD
BEGIN:DAYLIGHT
TZOFFSETFROM:+0100
TZOFFSETTO:+0200
TZNAME:CEST
DTSTART:20250330T010000
END:DAYLIGHT
BEGIN:STANDARD
TZOFFSETFROM:+0200
TZOFFSETTO:+0100
TZNAME:CET
DTSTART:20251026T010000
END:STANDARD
END:VTIMEZONE
BEGIN:VEVENT
DTSTART;TZID=Europe/Berlin:20240906T110000
DTEND;TZID=Europe/Berlin:20240906T113000
DTSTAMP:20260426T030347
CREATED:20240903T143111Z
LAST-MODIFIED:20240903T143111Z
UID:3119-1725620400-1725622200@blog.rwth-aachen.de
SUMMARY:Roos: Design and Development of Electronics for Space Robotic Hardware Testing
DESCRIPTION:This internship centered on the board design and software development of electronic systems for testing robotics developed at Redwire Space Europe. Hardware developed for space applications has strict requirements due to its high cost and the inability to perform repairs in space. Incomplete or faulty on-ground testing has been shown to significantly increase project risks\, leading to late discovery of design or workmanship problems\, or even in-orbit failures. The internship involved a diverse range of tasks\, from designing laboratory equipment used in electromagnetic interference testing to implementing communication protocols for test systems that commission bearings\, motors\, and sensors. \nMelden Sie sich hier an um Einladungen zu den Kolloquium-Vorträgen per E-Mail zu erhalten.\nRegister here to receive the invitations to colloquium talks via e-mail. \nZoom-Meeting-ID: 954 4073 3814\nPasswort: 450783
URL:https://blog.rwth-aachen.de/akustik/event/roos-design-and-development-of-electronics-for-space-robotic-hardware-testing/
LOCATION:IHTA Seminarraum (60 Persons) and Zoom-Meeting (Hybrid)\, Kopernikusstr. 5\, Aachen\, 52074\, Deutschland
CATEGORIES:Vortrag Praxissemester
END:VEVENT
END:VCALENDAR