BEGIN:VCALENDAR
VERSION:2.0
PRODID:-//Akustik-Blog - ECPv6.15.20//NONSGML v1.0//EN
CALSCALE:GREGORIAN
METHOD:PUBLISH
X-WR-CALNAME:Akustik-Blog
X-ORIGINAL-URL:https://blog.rwth-aachen.de/akustik
X-WR-CALDESC:Veranstaltungen für Akustik-Blog
REFRESH-INTERVAL;VALUE=DURATION:PT1H
X-Robots-Tag:noindex
X-PUBLISHED-TTL:PT1H
BEGIN:VTIMEZONE
TZID:Europe/Berlin
BEGIN:DAYLIGHT
TZOFFSETFROM:+0100
TZOFFSETTO:+0200
TZNAME:CEST
DTSTART:20240331T010000
END:DAYLIGHT
BEGIN:STANDARD
TZOFFSETFROM:+0200
TZOFFSETTO:+0100
TZNAME:CET
DTSTART:20241027T010000
END:STANDARD
BEGIN:DAYLIGHT
TZOFFSETFROM:+0100
TZOFFSETTO:+0200
TZNAME:CEST
DTSTART:20250330T010000
END:DAYLIGHT
BEGIN:STANDARD
TZOFFSETFROM:+0200
TZOFFSETTO:+0100
TZNAME:CET
DTSTART:20251026T010000
END:STANDARD
BEGIN:DAYLIGHT
TZOFFSETFROM:+0100
TZOFFSETTO:+0200
TZNAME:CEST
DTSTART:20260329T010000
END:DAYLIGHT
BEGIN:STANDARD
TZOFFSETFROM:+0200
TZOFFSETTO:+0100
TZNAME:CET
DTSTART:20261025T010000
END:STANDARD
END:VTIMEZONE
BEGIN:VEVENT
DTSTART;TZID=Europe/Berlin:20250313T110000
DTEND;TZID=Europe/Berlin:20250313T120000
DTSTAMP:20260426T061716
CREATED:20250131T171103Z
LAST-MODIFIED:20250131T171103Z
UID:3336-1741863600-1741867200@blog.rwth-aachen.de
SUMMARY:Rummler: Comparison of Measured and Simulated Impulse Responses of a Concert Hall Using the Loudspeaker Orchestra
DESCRIPTION:The RAVEN room acoustic software was benchmarked against measurements of the loudspeaker orchestra conducted by Pätynen et al. in the Gasteig concert hall\, Munich. The specific source arrangement used in the study plays a crucial role\, as it diversifies the direct and reflected sound paths\, significantly altering the perception compared to a single omnidirectional room excitation. \nVarious objective and subjective measures are presented to illustrate the particularities identified during the study. In addition\, preliminary results of an auditory comparison paradigm listening test inspired by the Spatial Audio Quality Inventory (SAQI) will be discussed. A group of expert listeners rated the difference between auralizations based on either measured or simulated room impulse responses using the Room Acoustical Quality Inventory (RAQI). \nMelden Sie sich hier an um Einladungen zu den Kolloquium-Vorträgen per E-Mail zu erhalten.\nRegister here to receive the invitations to colloquium talks via e-mail. \nZoom-Meeting-ID: 954 4073 3814\nPasswort: 450783
URL:https://blog.rwth-aachen.de/akustik/event/rummler-comparison-of-measured-and-simulated-impulse-responses-of-a-concert-hall-using-the-loudspeaker-orchestra/
LOCATION:IHTA Seminarraum (60 Persons) and Zoom-Meeting (Hybrid)\, Kopernikusstr. 5\, Aachen\, 52074\, Deutschland
CATEGORIES:Verteidigung Masterarbeit
END:VEVENT
END:VCALENDAR