BEGIN:VCALENDAR
VERSION:2.0
PRODID:-//Akustik-Blog - ECPv6.15.20//NONSGML v1.0//EN
CALSCALE:GREGORIAN
METHOD:PUBLISH
X-WR-CALNAME:Akustik-Blog
X-ORIGINAL-URL:https://blog.rwth-aachen.de/akustik
X-WR-CALDESC:Veranstaltungen für Akustik-Blog
REFRESH-INTERVAL;VALUE=DURATION:PT1H
X-Robots-Tag:noindex
X-PUBLISHED-TTL:PT1H
BEGIN:VTIMEZONE
TZID:Europe/Berlin
BEGIN:DAYLIGHT
TZOFFSETFROM:+0100
TZOFFSETTO:+0200
TZNAME:CEST
DTSTART:20250330T010000
END:DAYLIGHT
BEGIN:STANDARD
TZOFFSETFROM:+0200
TZOFFSETTO:+0100
TZNAME:CET
DTSTART:20251026T010000
END:STANDARD
BEGIN:DAYLIGHT
TZOFFSETFROM:+0100
TZOFFSETTO:+0200
TZNAME:CEST
DTSTART:20260329T010000
END:DAYLIGHT
BEGIN:STANDARD
TZOFFSETFROM:+0200
TZOFFSETTO:+0100
TZNAME:CET
DTSTART:20261025T010000
END:STANDARD
BEGIN:DAYLIGHT
TZOFFSETFROM:+0100
TZOFFSETTO:+0200
TZNAME:CEST
DTSTART:20270328T010000
END:DAYLIGHT
BEGIN:STANDARD
TZOFFSETFROM:+0200
TZOFFSETTO:+0100
TZNAME:CET
DTSTART:20271031T010000
END:STANDARD
END:VTIMEZONE
BEGIN:VEVENT
DTSTART;TZID=Europe/Berlin:20260220T110000
DTEND;TZID=Europe/Berlin:20260220T120000
DTSTAMP:20260425T195346
CREATED:20260217T154108Z
LAST-MODIFIED:20260217T154108Z
UID:3897-1771585200-1771588800@blog.rwth-aachen.de
SUMMARY:Mochammad Setyokusumo: Angular Resolution of Acoustic Reflections in Sound Propagation Modeling
DESCRIPTION:Geometrical acoustics has been widely used to simulate sound propagation in various environments because it has a lower computational cost than wave-based numerical simulations. An acoustic radiosity model (Sparrowpy) with a tabulated BRDF extension\, which discretises reflections into finite cones based on random incidence or bidirectional scattering coefficients\, is compared to an alternative ARE-based implementation with a continuous BRDF. For this\, the Phong BRDF\, a simplified form of the Lafortune BRDF\, is adopted to describe specular reflections in acoustics. Reflected sound propagation via a square surface from a point source to a point receiver is simulated while varying angular resolution and patch size (for Sparrowpy) and the number of sampling points and Phong exponent n (for ARE)\, assuming the surface is either a perfectly specular or diffuse reflector. The simulation results are compared to analytical solutions as the ground truth. Whilst a clear threshold for accurate modelling of specular reflection using tabulated BRDF could not be identified\, a threshold for both specular and diffuse reflection modelling was successfully established for the acoustic Phong BRDF via ARE implementation. The presentation will be given in English. \nDE: Winkelauflösung akustischer Reflexionen in der Schallausbreitungsmodellierung \nGeometrische Akustik wird häufig zur Simulation der Schallausbreitung in verschiedenen Umgebungen eingesetzt\, da sie im Vergleich zu wellenbasierten numerischen Simulationen geringere Rechenkosten verursacht. Ein auf akustischer Radiosity basierendes Modell (Sparrowpy) mit einer tabellarischen BRDF-Erweiterung\, das Reflexionen in endliche Kegel aufteilt\, basierend auf zufälligem Einfallswinkel oder bidirektionalen Streukoeffizienten\, wird mit einer alternativen ARE-basierten Implementierung mit kontinuierlicher BRDF verglichen. Dabei wird die Phong-BRDF\, eine vereinfachte Form der Lafortune-BRDF\, verwendet\, um spiegelnde Reflexionen zu beschreiben. Die Schallausbreitung einer Reflexion über eine quadratische Fläche von einer Punktquelle zu einem Punktempfänger wird simuliert\, wobei die Winkelauflösung und Patchgröße (für Sparrowpy) sowie die Anzahl der Abtastpunkte und der Phong-Exponent n (für ARE) variiert werden\, unter der Annahme\, dass die Oberfläche entweder perfekt spiegelnd oder diffus reflektierend ist. Die Simulationsergebnisse werden mit analytischen Lösungen als Ground Truth verglichen. Während kein eindeutiger Schwellenwert für eine genaue Modellierung spiegelnder Reflexionen mit einer tabellierten BRDF identifiziert werden konnte\, wurde für die akustische Phong-BRDF in der ARE-Implementierung erfolgreich ein Schwellenwert sowohl für die Modellierung spiegelnder als auch diffuser Reflexionen bestimmt. Der Vortrag wird auf Englisch gehalten. \nMelden Sie sich hier an um Einladungen zu den Kolloquium-Vorträgen per E-Mail zu erhalten.\nRegister here to receive the invitations to colloquium talks via e-mail. \nZoom-Meeting-ID: 954 4073 3814\nPasswort: 450783
URL:https://blog.rwth-aachen.de/akustik/event/mochammad-setyokusumo-angular-resolution-of-acoustic-reflections-in-sound-propagation-modeling/
LOCATION:IHTA Seminarraum (60 Persons) and Zoom-Meeting (Hybrid)\, Kopernikusstr. 5\, Aachen\, 52074\, Deutschland
CATEGORIES:Verteidigung Masterarbeit
END:VEVENT
END:VCALENDAR