BEGIN:VCALENDAR
VERSION:2.0
PRODID:-//Akustik-Blog - ECPv6.15.20//NONSGML v1.0//EN
CALSCALE:GREGORIAN
METHOD:PUBLISH
X-WR-CALNAME:Akustik-Blog
X-ORIGINAL-URL:https://blog.rwth-aachen.de/akustik
X-WR-CALDESC:Veranstaltungen für Akustik-Blog
REFRESH-INTERVAL;VALUE=DURATION:PT1H
X-Robots-Tag:noindex
X-PUBLISHED-TTL:PT1H
BEGIN:VTIMEZONE
TZID:Europe/Berlin
BEGIN:DAYLIGHT
TZOFFSETFROM:+0100
TZOFFSETTO:+0200
TZNAME:CEST
DTSTART:20200329T010000
END:DAYLIGHT
BEGIN:STANDARD
TZOFFSETFROM:+0200
TZOFFSETTO:+0100
TZNAME:CET
DTSTART:20201025T010000
END:STANDARD
BEGIN:DAYLIGHT
TZOFFSETFROM:+0100
TZOFFSETTO:+0200
TZNAME:CEST
DTSTART:20210328T010000
END:DAYLIGHT
BEGIN:STANDARD
TZOFFSETFROM:+0200
TZOFFSETTO:+0100
TZNAME:CET
DTSTART:20211031T010000
END:STANDARD
BEGIN:DAYLIGHT
TZOFFSETFROM:+0100
TZOFFSETTO:+0200
TZNAME:CEST
DTSTART:20220327T010000
END:DAYLIGHT
BEGIN:STANDARD
TZOFFSETFROM:+0200
TZOFFSETTO:+0100
TZNAME:CET
DTSTART:20221030T010000
END:STANDARD
END:VTIMEZONE
BEGIN:VEVENT
DTSTART;TZID=Europe/Berlin:20210702T110000
DTEND;TZID=Europe/Berlin:20210702T120000
DTSTAMP:20260425T195354
CREATED:20210507T085806Z
LAST-MODIFIED:20210716T184036Z
UID:1318-1625223600-1625227200@blog.rwth-aachen.de
SUMMARY:Kang: Designing Soundscape in urban open public spaces: a framework and potentials
DESCRIPTION:Jian Kang\nBartlett School of Environment\, Energy and Resources\nUniversity College London \nThis talk explores putting soundscape into the intentional design process\, by proposing a soundscape design framework for urban open public spaces\, including four key components: characteristics of each sound source\, acoustic effects of the space\, social/demographic aspect of the users\, and other aspects of the physical conditions. The potentials of designing methods for the four key components\, namely sounds\, space\, people and environment\, will then be explored. Design tools/models for soundscape in urban open public spaces will also be presented\, as well as soundscape design examples. \nDieses Video auf YouTube ansehen \nMelden Sie sich hier an um die Einladung zu dem Vortrag per E-Mail zu erhalten.\nRegister here to receive the invitation to this talk via E-Mail. \nZoom-Meeting-ID: 926 6519 6320\nPasswort: 849626
URL:https://blog.rwth-aachen.de/akustik/event/kang-designing-soundscape-in-urban-open-public-spaces-a-framework-and-potentials/
LOCATION:Zoom-Meeting
CATEGORIES:Vortrag
END:VEVENT
BEGIN:VEVENT
DTSTART;TZID=Europe/Berlin:20210706T110000
DTEND;TZID=Europe/Berlin:20210706T120000
DTSTAMP:20260425T195354
CREATED:20210604T072252Z
LAST-MODIFIED:20210702T104247Z
UID:1531-1625569200-1625572800@blog.rwth-aachen.de
SUMMARY:Engel: Determination of the soundscape cost index through soundscape data collection and the use of psychoacoustic metrics
DESCRIPTION:Soundscape studies are showing the importance and the beneﬁts regarding the sonic the environment in our daily lives. The soundscape paradigm shift highlights not just negative aspects\, common on environmental noise studies\, but also how the sonic environment can be recovering to the welfare of communities. Thinking on the valuation of settings\, past studies focused mainly on how much the environmental noise cost society. This kind of valuation followed several methods like hedonic pricing\, contingent valuation\, and beneﬁts transfer methods based just on economic factors involving socio-economic aspects. This study aims to show a new approach which ﬁts better with the soundscape paradigm shift established by the ISO 12913. The study highlights the valuation of positive and negative aspects of the evaluated soundscape\, together with the interaction of socio-economic and socio-cultural\, psychoacoustic\, landscape\, thermal-comfort and air quality aspects\, which are other stimuli that can inﬂuence our general environmental perception. Context also has great importance. Through the diversification of data collection (soundwalks and interviews) with different target public\, it was possible to ensure the coverage and understanding of this aspect on soundscape studies and the development of the proposed Soundscape Cost Index. The index shown in this work can explain 58% of the combination of the above-mentioned aspects related to public spaces users‘ soundscape expectations\, helping to redirect public authorities‘ efforts to provide healthy and comfortable public areas and ensure a reliable and better life quality. \nMelden Sie sich hier an um die Einladung zu dem Vortrag per E-Mail zu erhalten.\nRegister here to receive the invitation to this talk via E-Mail. \nZoom-Meeting-ID: 98717113254\nPasswort: 143367
URL:https://blog.rwth-aachen.de/akustik/event/engel-determination-of-the-soundscape-cost-index-through-soundscape-data-collection-and-the-use-of-psychoacoustic-metrics/
LOCATION:Zoom-Meeting
CATEGORIES:Verteidigung Dissertation
END:VEVENT
BEGIN:VEVENT
DTSTART;TZID=Europe/Berlin:20210709T110000
DTEND;TZID=Europe/Berlin:20210709T120000
DTSTAMP:20260425T195354
CREATED:20210518T172836Z
LAST-MODIFIED:20210704T111017Z
UID:1473-1625828400-1625832000@blog.rwth-aachen.de
SUMMARY:Uribe Corral: Vibroacoustic modelling of an ultrasonic metal welding process
DESCRIPTION:Ultrasonic Metal Welding (USMW) is solid-state bonding process where two metal pieces are joined by the application of ultrasonic vibrations. This thesis focuses on the study of the sonotrode during a free run to understand the airborne sound field generated during the welding process. \nSimulation data are generated using COMSOL Multiphysics to model the physics involved during USMW with different studies: solid mechanics time-dependent\, pressure acoustics transient and pressure acoustics\, boundary elements. Simulation results are presented using FEM and BEM methods\, with different 2D and 3D geometry models and including the effect of surface reflexions. \nFinally simulations and measurements are compared to find possible microphone positions for an acoustic monitoring method. \nMelden Sie sich hier an um die Einladung zu dem Vortrag per E-Mail zu erhalten.\nRegister here to receive the invitation to this talk via E-Mail. \nZoom-Meeting-ID: 934 4303 5464\nPasswort: 171751
URL:https://blog.rwth-aachen.de/akustik/event/uribe-corral-ultrasonic-welding/
LOCATION:Zoom-Meeting
CATEGORIES:Verteidigung Masterarbeit
END:VEVENT
BEGIN:VEVENT
DTSTART;TZID=Europe/Berlin:20210716T110000
DTEND;TZID=Europe/Berlin:20210716T120000
DTSTAMP:20260425T195354
CREATED:20210712T152656Z
LAST-MODIFIED:20210712T161648Z
UID:1564-1626433200-1626436800@blog.rwth-aachen.de
SUMMARY:Balint: Evaluating the decay of sound
DESCRIPTION:The absorption coefficient is a central parameter in the room acoustic design process. It can be measured in an impedance tube for normal sound incidence or in the reverberation chamber for random incidence. To guarantee a standardized test environment for reverberation chambers\, the international standard ISO 354 suggests a measurement procedure to increase the diffusivity of a sound field inside a laboratory environment by installing diffusers. The quality of the sound field diffusivity is evaluated by measuring the reverberation time and calculating the absorption coefficient of a sample. Unfortunately with this procedure it is not possible to achieve comparable results between different laboratories. As a consequence\, the measured absorption coefficient shows unacceptable deviations in laboratories around the world. Therefore one of the most important input parameters for the room acoustic design process is not reliable. \nIn this work\, the decay of sound in rooms of different shapes and sizes is investigated experimentally. A different framework to linear regression is proposed to calculate decay parameters\, when the fundamental assumptions for the application of the reverberation formula in acoustics is not applicable. The decay parameters form the basis for calculating the absorption coefficient measured in the reverberation chamber. Results indicate that the beginning of the sound decay contains valuable information\, which is mostly discarded for the evaluation of the reverberation time. \nMelden Sie sich hier an um die Einladung zu dem Vortrag per E-Mail zu erhalten.\nRegister here to receive the invitation to this talk via E-Mail. \nZoom-Meeting-ID: 967 5533 2406\nPasswort: 314645
URL:https://blog.rwth-aachen.de/akustik/event/balint-evaluating-the-decay-of-sound/
LOCATION:Zoom-Meeting
CATEGORIES:Vortrag
END:VEVENT
BEGIN:VEVENT
DTSTART;TZID=Europe/Berlin:20210723T103000
DTEND;TZID=Europe/Berlin:20210723T110000
DTSTAMP:20260425T195354
CREATED:20210708T072356Z
LAST-MODIFIED:20210718T094820Z
UID:1607-1627036200-1627038000@blog.rwth-aachen.de
SUMMARY:Liu: Internship with Huawei Deutschland
DESCRIPTION:Huawei is founded in 1987 in Shenzhen\, China. Huawei is a leading global provider of information and communications technology (ICT) infrastructure and smart devices.\nStarting from the 1st of Sep in 2018\, I started my internship at Huawei Technologies Germany GmbH in Dusseldorf. My internship lasts five months in total\, and the activity ends on 31th of January in 2019. During my internship period\, I dealt with some smart terminal device testing under the local network environment and cooperated with the developers to debug the issues that are found during the test for optimizing the product quality. \nMelden Sie sich hier an um die Einladung zu dem Vortrag per E-Mail zu erhalten.\nRegister here to receive the invitation to this talk via E-Mail. \nZoom-Meeting-ID: 939 5770 5221\nPasswort: 867255
URL:https://blog.rwth-aachen.de/akustik/event/liu-vortrag-praxissemester/
LOCATION:Zoom-Meeting
CATEGORIES:Vortrag Praxissemester
END:VEVENT
BEGIN:VEVENT
DTSTART;TZID=Europe/Berlin:20210723T110000
DTEND;TZID=Europe/Berlin:20210723T113000
DTSTAMP:20260425T195354
CREATED:20210611T085615Z
LAST-MODIFIED:20210718T094758Z
UID:1544-1627038000-1627039800@blog.rwth-aachen.de
SUMMARY:Palenda: Internship with Klang Technologies
DESCRIPTION:Aachen based\, KLANG:technologies produces Hard- and Software to deliver immersive\, three dimensional in-ear monitor mixes for musicians. This is achieved using binaural technologies. The focus is to give the musician a simple to use interface.\nDuring the internship\, the task was to develop a tool that can automatically measure KLANG products and determine if the signal processing was performed correctly. The software framework JUCE was used in the project and primarily handled the interaction with the sound card. Furthermore\, additional tools were implemented to aid in the automation of the measurement process. In this presentation\, an overview of the implemented tools will be given and how they can be used to measure. \nMelden Sie sich hier an um die Einladung zu dem Vortrag per E-Mail zu erhalten.\nRegister here to receive the invitation to this talk via E-Mail. \nZoom-Meeting-ID: 939 5770 5221\nPasswort: 867255
URL:https://blog.rwth-aachen.de/akustik/event/palenda-praxissemester-bei-klang-technologies/
LOCATION:Zoom-Meeting
CATEGORIES:Vortrag Praxissemester
END:VEVENT
BEGIN:VEVENT
DTSTART;TZID=Europe/Berlin:20210723T113000
DTEND;TZID=Europe/Berlin:20210723T120000
DTSTAMP:20260425T195354
CREATED:20210622T152944Z
LAST-MODIFIED:20210718T094843Z
UID:1568-1627039800-1627041600@blog.rwth-aachen.de
SUMMARY:Schwachtgen: Radial Filter Synthesis for Spherical Microphone Arrays
DESCRIPTION:Over the past few decades\, research began to focus increasingly on the use of spherical microphone arrays to study the spatial properties of acoustic wave fields. To estimate the plane wave incidence accurately\, the unwanted effects generated by the spherical microphone array itself in the recorded sound pressure should be eliminated by radial filtering. To that end\, the synthesis of adapted radial filters will form the core of this research. Radial filters will be derived from both a modeled and a measured spherical microphone array. A closer description of the directivity measurement required to determine the aforementioned measurement based radial filter will be given. Since the filtering of radial terms relies on a mathematical inversion\, appropriate numerical inversion methods such as the Moore-Penrose inversion and the soft-limiting inversion will be introduced as well. The analytic radial filtering methods will also be further enhanced to be more adapted to the physical needs of the spherical microphone array. The study will then conclude by evaluating the reconstruction capabilities of the different radial filter variants and determine the most favorable one. \nMelden Sie sich hier an um die Einladung zu dem Vortrag per E-Mail zu erhalten.\nRegister here to receive the invitation to this talk via E-Mail. \nZoom-Meeting-ID: 939 5770 5221\nPasswort: 867255
URL:https://blog.rwth-aachen.de/akustik/event/schwachtgen-radial-filter-synthesis-for-spherical-microphone-arrays/
LOCATION:Zoom-Meeting
CATEGORIES:Verteidigung Bachelorarbeit
END:VEVENT
END:VCALENDAR