BEGIN:VCALENDAR
VERSION:2.0
PRODID:-//Akustik-Blog - ECPv6.15.20//NONSGML v1.0//EN
CALSCALE:GREGORIAN
METHOD:PUBLISH
X-WR-CALNAME:Akustik-Blog
X-ORIGINAL-URL:https://blog.rwth-aachen.de/akustik
X-WR-CALDESC:Veranstaltungen für Akustik-Blog
REFRESH-INTERVAL;VALUE=DURATION:PT1H
X-Robots-Tag:noindex
X-PUBLISHED-TTL:PT1H
BEGIN:VTIMEZONE
TZID:Europe/Berlin
BEGIN:DAYLIGHT
TZOFFSETFROM:+0100
TZOFFSETTO:+0200
TZNAME:CEST
DTSTART:20220327T010000
END:DAYLIGHT
BEGIN:STANDARD
TZOFFSETFROM:+0200
TZOFFSETTO:+0100
TZNAME:CET
DTSTART:20221030T010000
END:STANDARD
BEGIN:DAYLIGHT
TZOFFSETFROM:+0100
TZOFFSETTO:+0200
TZNAME:CEST
DTSTART:20230326T010000
END:DAYLIGHT
BEGIN:STANDARD
TZOFFSETFROM:+0200
TZOFFSETTO:+0100
TZNAME:CET
DTSTART:20231029T010000
END:STANDARD
BEGIN:DAYLIGHT
TZOFFSETFROM:+0100
TZOFFSETTO:+0200
TZNAME:CEST
DTSTART:20240331T010000
END:DAYLIGHT
BEGIN:STANDARD
TZOFFSETFROM:+0200
TZOFFSETTO:+0100
TZNAME:CET
DTSTART:20241027T010000
END:STANDARD
END:VTIMEZONE
BEGIN:VEVENT
DTSTART;TZID=Europe/Berlin:20230203T110000
DTEND;TZID=Europe/Berlin:20230203T120000
DTSTAMP:20260426T005552
CREATED:20230113T154325Z
LAST-MODIFIED:20230131T062457Z
UID:2432-1675422000-1675425600@blog.rwth-aachen.de
SUMMARY:Zhu: Equivalent Circuit Modelling of Human Skull Vibrations
DESCRIPTION:The main purpose of this study is to model the transmission of vibrations in the skull bone using equivalent circuits. For this purpose\, further knowledge of the equivalent circuit model and the value of the parameters in the model is important. There are two parts to achieve this purpose.\nFirst part is by comparing the mechanical point impedance\, cochlea promontory velocity\, to obtain an equivalent model that more closely matches the measured data to the cochlear  promontory motion. Second part is learning more about coupling models with mechanical point impedances and transmission lines by examining models for occlusion effects and trying to replace velocity sources with coupling/transmission line models. \nMelden Sie sich hier an um Einladungen zu den Kolloquium-Vorträgen per E-Mail zu erhalten.\nRegister here to receive the invitations to colloquium talks via e-mail. \nZoom-Meeting-ID: 931 3783 1499\nPasswort: 331624
URL:https://blog.rwth-aachen.de/akustik/event/zhu-equivalent-circuit-modelling-of-human-skull-vibrations/
LOCATION:IHTA Seminarraum (60 Persons) and Zoom-Meeting (Hybrid)\, Kopernikusstr. 5\, Aachen\, 52074\, Deutschland
CATEGORIES:Verteidigung Masterarbeit
END:VEVENT
BEGIN:VEVENT
DTSTART;TZID=Europe/Berlin:20230209T110000
DTEND;TZID=Europe/Berlin:20230209T120000
DTSTAMP:20260426T005552
CREATED:20230112T102305Z
LAST-MODIFIED:20230131T202044Z
UID:2413-1675940400-1675944000@blog.rwth-aachen.de
SUMMARY:Knappe: Digitale Zwillinge für das PKW-Vorbeifahrtgeräusch - Komponenten und deren Zusammenwirken
DESCRIPTION:Die Notwendigkeit gesetzlicher Regulierungen des Außengeräuschs von Personenkraftwagen (PKW) resultiert aus dem Einfluss von Lärm auf das menschliche Wohlbefinden. Die Messung von PKW-Außengeräuschen wird unter genormten Bedingungen nach gesetzlichen Regulierungen als sogenannte Vorbeifahrtmessung durchgeführt. Die jüngste gesetzliche Norm der „Economic Comission of Europe“ (ECE) ist die ECE R51.03. \nDie Motivation der vorliegenden Arbeit basiert auf zwei grundsätzlichen Aspekten. Zum einen unterliegen die Anforderungen der ECE R51.03 in Form akustischer Grenzwerte bei der Vorbeifahrtmessung stetigen Verschärfungen. Die Erfüllung der gesetzlichen Grenzwerte wird für „Original Equipment Manufacturer“ (OEMs) zunehmend zur Herausforderung. Zum anderen erfordern immer kürzere Entwicklungszyklen größere Aktivitäten der OEMs in der frühen\, digitalen Phase des Fahrzeugentwicklungsprozesses. Zur Zeit existieren keine durchgängigen algorithmischen Lösungen zur Adressierung der beschriebenen Problematik. Akustische State-of-the-Art-Verfahren scheitern an der Komplexität des Außengeräuschs von PKW bestehend aus der Überlagerung multipler\, teilweise korrelierter Schallquellen mit nicht-omnidirektionaler Abstrahlung. Vorhersagen des Außengeräuschs von PKW mithilfe von Methoden des Maschinellen Lernens (ML) können die Problemstellung ebenfalls nicht umfassend lösen. \nZiel der Arbeit ist die Entwicklung eines durchgängigen Konzepts zur Digitalisierung des Fahrzeugentwicklungsprozesses hinsichtlich Außengeräusch und dessen algorithmische Realisierung. Bei der Bearbeitung der beschriebenen Aufgabenstellung wurden zwei Hauptaufgaben identifiziert. Zunächst besteht die Notwendigkeit der Vorhersage des Außengeräuschs zukünftiger Fahrzeuge\, bevor messfähige Hardware-Prototypen zur Verfügung stehen. Desweiteren muss das Außengeräusch bestehender Fahrzeuge mithilfe von Methoden der Teilschallquellenanalyse in seine Bestandteile in Form der relevanten Fahrzeugkomponenten\, wie Motor\, Abgasanlage und Reifen zerlegt werden. Die Kombination beider Verfahren ermöglicht die Ableitung von akustischen Komponentengrenzwerten hinsichtlich ECE R51.03 in der frühen\, digitalen Phase des Fahrzeugentwicklungsprozesses. \nDer erste Aspekt der wissenschaftlichen Relevanz ist die Entwicklung zweier neuer algorithmischer Ansätze. Es werden erstmalig ML-Verfahren zur dynamischen Vorhersage des Außengeräuschs über die gesamte Messstrecke hinsichtlich ECE R51.03 verwendet. Dabei werden „Gradient Boosted Models“ (GBMs) basierend auf Entscheidungsbäumen benutzt. Die Genauigkeit der entwickelten Modelle liegt bei 90 % aller betrachteten Beispiele innerhalb der von der ECE R51.03 erlaubten Varianz bei konsekutiven Vorbeifahrtmessungen. Damit sind Vorhersagen des Außengeräuschs zukünftiger Fahrzeuge mit einer Genauigkeit möglich\, die es erlaubt\, den weiteren Fahrzeugentwicklungsprozess daraufhin auszulegen. \nZusätzlich wurde mit „Helmholtz Inverse Beamforming“ (HIBF) ein neues Verfahren zur Analyse von Teilschallquellen hinsichtlich ECE R51.03 entwickelt\, das wesentliche Schwächen des Stands der Technik kompensiert. „Airborne Source Quantification“ (ASQ)\, basierend auf Transferpfadanalyse (TPA)\, beruht auf der Annahme akustischer Monopole. Nicht-omnidirektionale Schallabstrahlungen\, beispielsweise der Reifen\, können nicht abgebildet werden. Durch die Darstellung der Schallquellen mithilfe von Kugelflächenfunktionen bei HIBF wird diese Schwäche von ASQ aufgelöst. Bei Messungen an einem realen Fahrzeug konnte HIBF signifikant bessere Ergebnisse erzielen als ASQ. \nDer zweite wesentliche Aspekt der wissenschaftlichen Relevanz ist die erstmalige Entwicklung und algorithmische Realisierung eines durchgängigen Konzepts zur Digitalisierung des Fahrzeugentwicklungsprozesses hinsichtlich ECE R51.03 durch Kombination der beiden algorithmischen Ansätze. Mithilfe der Kombination von Außengeräuschvorhersagen zukünftiger Fahrzeuge mit GBMs und der Teilschallquellenanalyse mit HIBF können akustische Komponentengrenzwerte für Reifen und Abgasanlage bereits in der digitalen Phase des Fahrzeugentwicklungsprozesses abgeleitet werden. \nMelden Sie sich hier an um Einladungen zu den Kolloquium-Vorträgen per E-Mail zu erhalten.\nRegister here to receive the invitations to colloquium talks via e-mail. \nZoom-Meeting-ID: 952 3208 6517\nPasswort: 328324 \n 
URL:https://blog.rwth-aachen.de/akustik/event/knappe-digitale-zwillinge-fuer-das-pkw-vorbeifahrtgeraeusch-komponenten-und-deren-zusammenwirken/
LOCATION:IHTA Seminarraum (60 Persons) and Zoom-Meeting (Hybrid)\, Kopernikusstr. 5\, Aachen\, 52074\, Deutschland
CATEGORIES:Verteidigung Dissertation
END:VEVENT
BEGIN:VEVENT
DTSTART;TZID=Europe/Berlin:20230210T110000
DTEND;TZID=Europe/Berlin:20230210T113000
DTSTAMP:20260426T005552
CREATED:20230113T150805Z
LAST-MODIFIED:20230205T142135Z
UID:2410-1676026800-1676028600@blog.rwth-aachen.de
SUMMARY:Dohmen: The effects of environmental noise on children’s mental health and cognition: exploring the interaction between the physical and social environment
DESCRIPTION:A good part of the global burden of disease can be attributed to environmental factors\, such as noise. With a high prevalence of mental health problems in lower socioeconomic groups it is important to understand how environmental exposures contribute to mental health. The focus of my research is on children as children are more vulnerable to the effects of environmental exposures\, their bodies and mind are in rapid development and coping mechanisms need yet to be discovered or further developed. In this presentation I will show two approaches to explore the interaction between the physical and social environment\, using noise as a physical exposure.  The first approach is an assessment of noise exposure using activity-patterns to create more detailed exposure information. The hypothesis in this first approach is that lower socioeconomic groups experience higher noise exposure both at home and through visiting higher exposure areas in their leisure time. The second approach focusses on the effects of noise on cognitive functioning and mental well-being using the concept of learned helplessness.  The hypothesis is that chronic noise exposure and social stressors alter your ability to cope with noise during a task or influence your motivation to persist at a difficult task. Your ability to cope is related to your perception of control\, which is in turn influenced by your social environment. Feelings of not being in control because of continually failed coping mechanisms followed by not trying to cope with the incoming stressors anymore (giving up) describe learned helplessness. \nMelden Sie sich hier an um Einladungen zu den Kolloquium-Vorträgen per E-Mail zu erhalten.\nRegister here to receive the invitations to colloquium talks via e-mail. \nZoom-Meeting-ID: 927 6768 0312\nPasswort: 363300
URL:https://blog.rwth-aachen.de/akustik/event/dohmen-the-effects-of-environmental-noise-on-childrens-mental-health-and-cognition-exploring-the-interaction-between-the-physical-and-social-environment/
LOCATION:IHTA Seminarraum (60 Persons) and Zoom-Meeting (Hybrid)\, Kopernikusstr. 5\, Aachen\, 52074\, Deutschland
CATEGORIES:Vortrag
END:VEVENT
BEGIN:VEVENT
DTSTART;TZID=Europe/Berlin:20230210T113000
DTEND;TZID=Europe/Berlin:20230210T120000
DTSTAMP:20260426T005552
CREATED:20230202T130556Z
LAST-MODIFIED:20230205T142156Z
UID:2443-1676028600-1676030400@blog.rwth-aachen.de
SUMMARY:Castro: Internship with HEAD acoustics
DESCRIPTION:This presentation is about the work done during the Internship period\, the main topic is related to the psychoacoustic parameter sharpness and the results obtained in listening experiments in regard to this parameter\, the analysis of the signals and comparisons between experimental and theoretical results will also be presented. Some hypotheses about these differences will be explained and analyzed. At the end\, a brief study about the statistical method poststratification and its possible uses in listening experiments will be shown. \nMelden Sie sich hier an um Einladungen zu den Kolloquium-Vorträgen per E-Mail zu erhalten.\nRegister here to receive the invitations to colloquium talks via e-mail. \nZoom-Meeting-ID: 927 6768 0312\nPasswort: 363300
URL:https://blog.rwth-aachen.de/akustik/event/castro-internship-with-head-acoustics/
LOCATION:IHTA Seminarraum (60 Persons) and Zoom-Meeting (Hybrid)\, Kopernikusstr. 5\, Aachen\, 52074\, Deutschland
CATEGORIES:Vortrag Praxissemester
END:VEVENT
BEGIN:VEVENT
DTSTART;TZID=Europe/Berlin:20230224T110000
DTEND;TZID=Europe/Berlin:20230224T120000
DTSTAMP:20260426T005552
CREATED:20230219T173036Z
LAST-MODIFIED:20230219T172302Z
UID:2461-1677236400-1677240000@blog.rwth-aachen.de
SUMMARY:Gierden: Investigation of the relationship between switching auditory selective attention and heart rate variability of children
DESCRIPTION:Noise is known to influence human cognitive performance such as auditory selective attention. Not only cognitive abilities\, but also physiological reactions can be measured when being exposed to noise. In comparison to adults\, children are even more exposed to noise. Especially in educational buildings\, such as schools\, children are confronted with many different sound sources\, including noise\, coming from different directions. Therefore\, it is of interest to which extent the noise causes stress for children and whether it can affect their development and learning performance. To ensure the latter two aspects\, it is of interest to investigate whether there is a relation between intentional auditory attention switches and the physiological reactions of children. In an earlier study\, the relation between auditory selective attention and heart rate variability was investigated in young adults. This work examines the relation between children’s auditory selective attention and the heart rate variability (HRV) while being exposed to different noise settings. A listening experiment was conducted with 30 normal-hearing children aged between six and nine using a validated child appropriate paradigm on intentional switching of auditory selective attention. A non-obtrusive measurement method was chosen to obtain the electrocardiography without affecting the rest of the experiment. Afterwards\, suitable HRV parameters were evaluated\, and their interactions with the parameters concerning auditory selective attention was assessed statistically. A strong interaction was found between noise and dropping HRV\, indicating a higher stress level in children while being exposed to noise. A simultaneous rise in erroneous responses could be observed. Additionally\, the performance of the children improved for more challenging cognitive tasks. Unexpectedly\, HRV did not sink but rose instead simultaneously. Therefore\, further studies should further investigate the relationship between cognitive tasks and HRV of children. The interaction between HRV and noise should also be further examined for example by evaluating the effect of different noise levels on HRV on children. \nMelden Sie sich hier an um Einladungen zu den Kolloquium-Vorträgen per E-Mail zu erhalten.\nRegister here to receive the invitations to colloquium talks via e-mail. \nZoom-Meeting-ID: 925 8974 6836\nPasswort: 243640
URL:https://blog.rwth-aachen.de/akustik/event/gierden-investigation-of-the-relationship-between-switching-auditory-selective-attention-and-heart-rate-variability-of-children/
LOCATION:IHTA Seminarraum (60 Persons) and Zoom-Meeting (Hybrid)\, Kopernikusstr. 5\, Aachen\, 52074\, Deutschland
CATEGORIES:Verteidigung Masterarbeit
END:VEVENT
END:VCALENDAR