BEGIN:VCALENDAR
VERSION:2.0
PRODID:-//CAMMP  - ECPv6.15.20//NONSGML v1.0//EN
CALSCALE:GREGORIAN
METHOD:PUBLISH
X-WR-CALNAME:CAMMP 
X-ORIGINAL-URL:https://blog.rwth-aachen.de/cammp
X-WR-CALDESC:Veranstaltungen für CAMMP 
REFRESH-INTERVAL;VALUE=DURATION:PT1H
X-Robots-Tag:noindex
X-PUBLISHED-TTL:PT1H
BEGIN:VTIMEZONE
TZID:Europe/Berlin
BEGIN:DAYLIGHT
TZOFFSETFROM:+0100
TZOFFSETTO:+0200
TZNAME:CEST
DTSTART:20200329T010000
END:DAYLIGHT
BEGIN:STANDARD
TZOFFSETFROM:+0200
TZOFFSETTO:+0100
TZNAME:CET
DTSTART:20201025T010000
END:STANDARD
BEGIN:DAYLIGHT
TZOFFSETFROM:+0100
TZOFFSETTO:+0200
TZNAME:CEST
DTSTART:20210328T010000
END:DAYLIGHT
BEGIN:STANDARD
TZOFFSETFROM:+0200
TZOFFSETTO:+0100
TZNAME:CET
DTSTART:20211031T010000
END:STANDARD
BEGIN:DAYLIGHT
TZOFFSETFROM:+0100
TZOFFSETTO:+0200
TZNAME:CEST
DTSTART:20220327T010000
END:DAYLIGHT
BEGIN:STANDARD
TZOFFSETFROM:+0200
TZOFFSETTO:+0100
TZNAME:CET
DTSTART:20221030T010000
END:STANDARD
END:VTIMEZONE
BEGIN:VEVENT
DTSTART;VALUE=DATE:20210226
DTEND;VALUE=DATE:20210227
DTSTAMP:20260426T021453
CREATED:20210103T110718Z
LAST-MODIFIED:20210201T132545Z
UID:2013-1614297600-1614383999@blog.rwth-aachen.de
SUMMARY:Online CAMMP day [MINT EC Digitalforum]
DESCRIPTION:
URL:https://blog.rwth-aachen.de/cammp/event/cammp-day-mint-ec-digitalforum/
END:VEVENT
BEGIN:VEVENT
DTSTART;TZID=Europe/Berlin:20210226T150000
DTEND;TZID=Europe/Berlin:20210226T170000
DTSTAMP:20260426T021453
CREATED:20210117T131156Z
LAST-MODIFIED:20210201T132528Z
UID:2070-1614351600-1614358800@blog.rwth-aachen.de
SUMMARY:Online Nachmittagsangebot für die Mittelstufe
DESCRIPTION:
URL:https://blog.rwth-aachen.de/cammp/event/nachmittagsangebot-fuer-die-mittelstufe-11/
END:VEVENT
END:VCALENDAR