BEGIN:VCALENDAR
VERSION:2.0
PRODID:-//Research Data – Latest News &amp; Worth Knowing - ECPv6.15.20//NONSGML v1.0//EN
CALSCALE:GREGORIAN
METHOD:PUBLISH
X-WR-CALNAME:Research Data – Latest News &amp; Worth Knowing
X-ORIGINAL-URL:https://blog.rwth-aachen.de/forschungsdaten/en
X-WR-CALDESC:Events for Research Data – Latest News &amp; Worth Knowing
REFRESH-INTERVAL;VALUE=DURATION:PT1H
X-Robots-Tag:noindex
X-PUBLISHED-TTL:PT1H
BEGIN:VTIMEZONE
TZID:Europe/Berlin
BEGIN:DAYLIGHT
TZOFFSETFROM:+0100
TZOFFSETTO:+0200
TZNAME:CEST
DTSTART:20240331T010000
END:DAYLIGHT
BEGIN:STANDARD
TZOFFSETFROM:+0200
TZOFFSETTO:+0100
TZNAME:CET
DTSTART:20241027T010000
END:STANDARD
BEGIN:DAYLIGHT
TZOFFSETFROM:+0100
TZOFFSETTO:+0200
TZNAME:CEST
DTSTART:20250330T010000
END:DAYLIGHT
BEGIN:STANDARD
TZOFFSETFROM:+0200
TZOFFSETTO:+0100
TZNAME:CET
DTSTART:20251026T010000
END:STANDARD
BEGIN:DAYLIGHT
TZOFFSETFROM:+0100
TZOFFSETTO:+0200
TZNAME:CEST
DTSTART:20260329T010000
END:DAYLIGHT
BEGIN:STANDARD
TZOFFSETFROM:+0200
TZOFFSETTO:+0100
TZNAME:CET
DTSTART:20261025T010000
END:STANDARD
END:VTIMEZONE
BEGIN:VEVENT
DTSTART;TZID=Europe/Berlin:20250825T100000
DTEND;TZID=Europe/Berlin:20250825T120000
DTSTAMP:20260426T015449
CREATED:20250806T125510Z
LAST-MODIFIED:20250806T125510Z
UID:7669-1756116000-1756123200@blog.rwth-aachen.de
SUMMARY:RDM Platform Coscine – More Than Free Quota
DESCRIPTION:Source: Coscine  \nOn 25 August 2025\, an online workshop on Coscine will take place from 10 a.m. to 12 p.m. The research data platform supports researchers in managing their data in a structured manner\, creating projects and storing data securely – and much more than just storage space. \nIn the workshop\, which is part of the modular advanced training series RDM II\, participants will learn in a practical way how they can use Coscine to make research data findable\, accessible and sustainable in accordance with the FAIR criteria (Findable\, Accessible\, Interoperable\, Reusable). \nThe workshop is aimed at doctoral candidates\, postdocs and research assistants who would like to deepen their knowledge of research data management. \nPrerequisite is basic knowledge of research data management\, which can be acquired\, for example\, in the Moodle course ‘Research Data Management – an Overview (RDM I – online)’. \nParticipation is free of charge. Registration is via the RWTH Single Sign-On or externally. The access link will be sent by email approximately three days before the event begins. \nAccessibility is guaranteed. If you require assistance\, please contact veranstaltungsmanagementpe@rwth-aachen.de. \nFurther information about the event can be found on the RDM website of RWTH Aachen University.
URL:https://blog.rwth-aachen.de/forschungsdaten/en/event/coscine-more-than-free-quota/
LOCATION:digital
ORGANIZER;CN="FDM-Team":MAILTO:servicedesk@rwth-aachen.de
END:VEVENT
BEGIN:VEVENT
DTSTART;TZID=Europe/Berlin:20250825T100000
DTEND;TZID=Europe/Berlin:20250825T200000
DTSTAMP:20260426T015449
CREATED:20250806T130734Z
LAST-MODIFIED:20260106T094451Z
UID:7666-1756116000-1756152000@blog.rwth-aachen.de
SUMMARY:[:de]DALIA Satellite Meeting @CoRDI2025 – Data Literacy im Fokus[:en]DALIA Satellite Meeting @CoRDI2025 – Focus On Data Literacy[:]
DESCRIPTION:Source: Nationale Forschungsdateninfrastruktur  \nOn 25 August 2025\, a satellite networking event organised by the DALIA project will take place in Aachen as part of CoRDI 2025. The event will address key issues relating to data literacy in research and teaching\, focusing on data standards\, training platforms\, community building and FAIR-oriented training formats. \nThe meeting will take place on site in seminar room 202 of building 2020 at the Institute of Inorganic Chemistry at RWTH Aachen University. Participation is free of charge and includes a lunch buffet\, dinner\, coffee breaks and networking opportunities. \nThe event will start at 10 am. with a welcome coffee. The programme will end at around 8 pm. \nRegistration is required by 11 August 2025. The password ‘DALIA25’ is required to access the registration form. Further information on the event can be found on the DALIA project website.
URL:https://blog.rwth-aachen.de/forschungsdaten/en/event/dalia-satellite-meeting/
LOCATION:Seminarraum 202\, Gebäude 2020\, Institut für Anorganische Chemie der RWTH Aachen\, Landoltweg 1a\, Aachen\, Nordrhein-Westfalen\, 52074\, Germany
ORGANIZER;CN="NFDI":MAILTO:info@nfdi.de
END:VEVENT
END:VCALENDAR