BEGIN:VCALENDAR
VERSION:2.0
PRODID:-//IT Center Events - ECPv6.15.20//NONSGML v1.0//EN
CALSCALE:GREGORIAN
METHOD:PUBLISH
X-WR-CALNAME:IT Center Events
X-ORIGINAL-URL:https://blog.rwth-aachen.de/itc-events/en
X-WR-CALDESC:Events for IT Center Events
REFRESH-INTERVAL;VALUE=DURATION:PT1H
X-Robots-Tag:noindex
X-PUBLISHED-TTL:PT1H
BEGIN:VTIMEZONE
TZID:Europe/Berlin
BEGIN:DAYLIGHT
TZOFFSETFROM:+0100
TZOFFSETTO:+0200
TZNAME:CEST
DTSTART:20150329T010000
END:DAYLIGHT
BEGIN:STANDARD
TZOFFSETFROM:+0200
TZOFFSETTO:+0100
TZNAME:CET
DTSTART:20151025T010000
END:STANDARD
BEGIN:DAYLIGHT
TZOFFSETFROM:+0100
TZOFFSETTO:+0200
TZNAME:CEST
DTSTART:20160327T010000
END:DAYLIGHT
BEGIN:STANDARD
TZOFFSETFROM:+0200
TZOFFSETTO:+0100
TZNAME:CET
DTSTART:20161030T010000
END:STANDARD
BEGIN:DAYLIGHT
TZOFFSETFROM:+0100
TZOFFSETTO:+0200
TZNAME:CEST
DTSTART:20170326T010000
END:DAYLIGHT
BEGIN:STANDARD
TZOFFSETFROM:+0200
TZOFFSETTO:+0100
TZNAME:CET
DTSTART:20171029T010000
END:STANDARD
END:VTIMEZONE
BEGIN:VEVENT
DTSTART;TZID=Europe/Berlin:20160628T140000
DTEND;TZID=Europe/Berlin:20160628T160000
DTSTAMP:20260426T041552
CREATED:20210623T064653Z
LAST-MODIFIED:20230707T092324Z
UID:4614-1467122400-1467129600@blog.rwth-aachen.de
SUMMARY:RWTH Adminrunde Juni 2016
DESCRIPTION:This entry is only available in Deutsch. Name: RWTH Adminrunde Juni 2016\n \nVeranstaltungsart: Informationsveranstaltung\n \nDatum: 28. Juni 2016\n \nUhrzeit: 14:00 bis 16:00 Uhr \nOrt: IEHK | Raum H201\n \nZielgruppe: Alle Interessierten \n\n\n\nBeschreibung\nDie Adminrunde fand am 28.06.2016 von 14.00 – 16.00 im Raum H201 im IEHK statt. \nAllgemeine Infos zur RWTH Adminrunde \n\n\n  \n\nAgenda \n\nBegrüßung und Vorstellung der Agenda\n14:00 – 14:20 Uhr RWTH Intranet\n14:20 – 14:40 Uhr Sciebo – Aktuelles und Weiterentwicklung\n14:40 – 15:00 Uhr Vorstellung Zabbix\n15:00 – 15:10 Uhr Forschungsdatenmanagement\n15:10 – 15:20 Uhr Informationen zum neuen Backup und Archiv System\n15:20 – 15:30 Uhr Vorstellung DNS Admin\n15:30 – 15:40 Uhr Software Asset Management\n15:40 – 15:50 Uhr Aktuelles aus der Informationssicherheit\n15:50 – 16:00 Uhr Ausschreibung von Rahmenverträgen\n\n\n\n\n\nVeranstaltungsunterlagen\nDie Folien der Sitzung sind im RWTH Intranet zu finden.
URL:https://blog.rwth-aachen.de/itc-events/en/event/rwth-adminrunde-juni-2016/
LOCATION:IEHK | Raum H201
CATEGORIES:RWTH Adminrunde,Wiederkehrend
ATTACH;FMTTYPE=image/jpeg:https://blog.rwth-aachen.de/itc-events/files/2021/04/show_picture.asp_.jpg
ORGANIZER;CN="IT Center":MAILTO:events@itc.rwth-aachen.de
END:VEVENT
END:VCALENDAR