BEGIN:VCALENDAR
VERSION:2.0
PRODID:-//IT Center Events - ECPv6.15.20//NONSGML v1.0//EN
CALSCALE:GREGORIAN
METHOD:PUBLISH
X-WR-CALNAME:IT Center Events
X-ORIGINAL-URL:https://blog.rwth-aachen.de/itc-events/en
X-WR-CALDESC:Events for IT Center Events
REFRESH-INTERVAL;VALUE=DURATION:PT1H
X-Robots-Tag:noindex
X-PUBLISHED-TTL:PT1H
BEGIN:VTIMEZONE
TZID:Europe/Berlin
BEGIN:DAYLIGHT
TZOFFSETFROM:+0100
TZOFFSETTO:+0200
TZNAME:CEST
DTSTART:20100328T010000
END:DAYLIGHT
BEGIN:STANDARD
TZOFFSETFROM:+0200
TZOFFSETTO:+0100
TZNAME:CET
DTSTART:20101031T010000
END:STANDARD
BEGIN:DAYLIGHT
TZOFFSETFROM:+0100
TZOFFSETTO:+0200
TZNAME:CEST
DTSTART:20110327T010000
END:DAYLIGHT
BEGIN:STANDARD
TZOFFSETFROM:+0200
TZOFFSETTO:+0100
TZNAME:CET
DTSTART:20111030T010000
END:STANDARD
BEGIN:DAYLIGHT
TZOFFSETFROM:+0100
TZOFFSETTO:+0200
TZNAME:CEST
DTSTART:20120325T010000
END:DAYLIGHT
BEGIN:STANDARD
TZOFFSETFROM:+0200
TZOFFSETTO:+0100
TZNAME:CET
DTSTART:20121028T010000
END:STANDARD
END:VTIMEZONE
BEGIN:VEVENT
DTSTART;VALUE=DATE:20111117
DTEND;VALUE=DATE:20111118
DTSTAMP:20260425T015358
CREATED:20210623T115247Z
LAST-MODIFIED:20230707T092828Z
UID:4694-1321488000-1321574399@blog.rwth-aachen.de
SUMMARY:RWTH Adminrunde November 2011
DESCRIPTION:Name: RWTH Adminrunde November 2011\n \nVeranstaltungsart: Informationsveranstaltung\n \nDatum: 17. November 2011 \nZielgruppe: Alle Interessierten \nAllgemeine Infos zur RWTH Adminrunde \n\n\n  \nAgenda und Veranstaltungsunterlagen\nRWTH Adminrunde November 2011 – 17.11.2011\n \nIPv6 – Nils Neumann \nDatenschutz und Datensicherheit – Helmut Löbner \n\n\n 
URL:https://blog.rwth-aachen.de/itc-events/en/event/rwth-adminrunde-november-2011/
CATEGORIES:RWTH Adminrunde,Wiederkehrend
ATTACH;FMTTYPE=image/jpeg:https://blog.rwth-aachen.de/itc-events/files/2021/04/show_picture.asp_.jpg
ORGANIZER;CN="IT Center":MAILTO:events@itc.rwth-aachen.de
END:VEVENT
END:VCALENDAR