BEGIN:VCALENDAR
VERSION:2.0
PRODID:-//IT Center Events - ECPv6.15.20//NONSGML v1.0//EN
CALSCALE:GREGORIAN
METHOD:PUBLISH
X-WR-CALNAME:IT Center Events
X-ORIGINAL-URL:https://blog.rwth-aachen.de/itc-events/en
X-WR-CALDESC:Events for IT Center Events
REFRESH-INTERVAL;VALUE=DURATION:PT1H
X-Robots-Tag:noindex
X-PUBLISHED-TTL:PT1H
BEGIN:VTIMEZONE
TZID:Europe/Berlin
BEGIN:DAYLIGHT
TZOFFSETFROM:+0100
TZOFFSETTO:+0200
TZNAME:CEST
DTSTART:20110327T010000
END:DAYLIGHT
BEGIN:STANDARD
TZOFFSETFROM:+0200
TZOFFSETTO:+0100
TZNAME:CET
DTSTART:20111030T010000
END:STANDARD
BEGIN:DAYLIGHT
TZOFFSETFROM:+0100
TZOFFSETTO:+0200
TZNAME:CEST
DTSTART:20120325T010000
END:DAYLIGHT
BEGIN:STANDARD
TZOFFSETFROM:+0200
TZOFFSETTO:+0100
TZNAME:CET
DTSTART:20121028T010000
END:STANDARD
BEGIN:DAYLIGHT
TZOFFSETFROM:+0100
TZOFFSETTO:+0200
TZNAME:CEST
DTSTART:20130331T010000
END:DAYLIGHT
BEGIN:STANDARD
TZOFFSETFROM:+0200
TZOFFSETTO:+0100
TZNAME:CET
DTSTART:20131027T010000
END:STANDARD
END:VTIMEZONE
BEGIN:VEVENT
DTSTART;VALUE=DATE:20120206
DTEND;VALUE=DATE:20120207
DTSTAMP:20260425T173857
CREATED:20210623T114715Z
LAST-MODIFIED:20230707T092813Z
UID:4690-1328486400-1328572799@blog.rwth-aachen.de
SUMMARY:RWTH Adminrunde Februar 2012
DESCRIPTION:Name: RWTH Adminrunde Februar 2012\n \nVeranstaltungsart: Informationsveranstaltung\n \nDatum: 06. Februar 2012 \nZielgruppe: Alle Interessierten \nAllgemeine Infos zur RWTH Adminrunde \n\n\n  \nAgenda und Veranstaltungsunterlagen\nRWTH Adminrunde Februar 2012 – 06.02.2012\n \nVideokonferenz an der FH Aachen \nOPSview (IEHK) – Sven Meyer \nDiskussion zur Zukunft der Admin-Listen \n\n\n 
URL:https://blog.rwth-aachen.de/itc-events/en/event/rwth-adminrunde-februar-2012/
CATEGORIES:RWTH Adminrunde,Wiederkehrend
ATTACH;FMTTYPE=image/jpeg:https://blog.rwth-aachen.de/itc-events/files/2021/04/show_picture.asp_.jpg
ORGANIZER;CN="IT Center":MAILTO:events@itc.rwth-aachen.de
END:VEVENT
END:VCALENDAR