BEGIN:VCALENDAR
VERSION:2.0
PRODID:-//IT Center Events - ECPv6.15.20//NONSGML v1.0//EN
CALSCALE:GREGORIAN
METHOD:PUBLISH
X-WR-CALNAME:IT Center Events
X-ORIGINAL-URL:https://blog.rwth-aachen.de/itc-events/en
X-WR-CALDESC:Events for IT Center Events
REFRESH-INTERVAL;VALUE=DURATION:PT1H
X-Robots-Tag:noindex
X-PUBLISHED-TTL:PT1H
BEGIN:VTIMEZONE
TZID:Europe/Berlin
BEGIN:DAYLIGHT
TZOFFSETFROM:+0100
TZOFFSETTO:+0200
TZNAME:CEST
DTSTART:20110327T010000
END:DAYLIGHT
BEGIN:STANDARD
TZOFFSETFROM:+0200
TZOFFSETTO:+0100
TZNAME:CET
DTSTART:20111030T010000
END:STANDARD
BEGIN:DAYLIGHT
TZOFFSETFROM:+0100
TZOFFSETTO:+0200
TZNAME:CEST
DTSTART:20120325T010000
END:DAYLIGHT
BEGIN:STANDARD
TZOFFSETFROM:+0200
TZOFFSETTO:+0100
TZNAME:CET
DTSTART:20121028T010000
END:STANDARD
BEGIN:DAYLIGHT
TZOFFSETFROM:+0100
TZOFFSETTO:+0200
TZNAME:CEST
DTSTART:20130331T010000
END:DAYLIGHT
BEGIN:STANDARD
TZOFFSETFROM:+0200
TZOFFSETTO:+0100
TZNAME:CET
DTSTART:20131027T010000
END:STANDARD
END:VTIMEZONE
BEGIN:VEVENT
DTSTART;VALUE=DATE:20120329
DTEND;VALUE=DATE:20120330
DTSTAMP:20260426T020934
CREATED:20210623T114357Z
LAST-MODIFIED:20230707T081547Z
UID:4686-1332979200-1333065599@blog.rwth-aachen.de
SUMMARY:RWTH Adminrunde März 2012
DESCRIPTION:Name: RWTH Adminrunde März 2012\n \nVeranstaltungsart: Informationsveranstaltung\n \nDatum: 29. März 2012 \nZielgruppe: Alle Interessierten \nAllgemeine Infos zur RWTH Adminrunde \n\n\n  \nAgenda\nRWTH Adminrunde März 2012 – 29.03.2012\n \n\n\nBegrüßung und Vorstellung der Agenda (Bündgens) \nNeues aus dem  Rechen- und Kommunikationszentrum: \nNeuigkeiten aus demRechen- und Kommunikationszentrum \nneue Struktur Rechen- und Kommunikationszentrum ServiceDesk (Hengstebeck) \naktuelle Informationen zu Deployed Desktop und Backup/Archiv (Eifert) \nVorträge \nNagios – ein Erfahrungsbericht aus dem RZ (Hektor) \nHilfe ein Mac (Stolz) \nKommunikationskanäle für Admins – Vorstellung und Diskussion (Orga Team/alle) \noffene Diskussion zu aktuellen Themen (alle)
URL:https://blog.rwth-aachen.de/itc-events/en/event/rwth-adminrunde-maerz-2012/
CATEGORIES:RWTH Adminrunde,Wiederkehrend
ATTACH;FMTTYPE=image/jpeg:https://blog.rwth-aachen.de/itc-events/files/2021/04/show_picture.asp_.jpg
ORGANIZER;CN="IT Center":MAILTO:events@itc.rwth-aachen.de
END:VEVENT
END:VCALENDAR