BEGIN:VCALENDAR
VERSION:2.0
PRODID:-//IT Center Events - ECPv6.15.20//NONSGML v1.0//EN
CALSCALE:GREGORIAN
METHOD:PUBLISH
X-WR-CALNAME:IT Center Events
X-ORIGINAL-URL:https://blog.rwth-aachen.de/itc-events/en
X-WR-CALDESC:Events for IT Center Events
REFRESH-INTERVAL;VALUE=DURATION:PT1H
X-Robots-Tag:noindex
X-PUBLISHED-TTL:PT1H
BEGIN:VTIMEZONE
TZID:Europe/Berlin
BEGIN:DAYLIGHT
TZOFFSETFROM:+0100
TZOFFSETTO:+0200
TZNAME:CEST
DTSTART:20120325T010000
END:DAYLIGHT
BEGIN:STANDARD
TZOFFSETFROM:+0200
TZOFFSETTO:+0100
TZNAME:CET
DTSTART:20121028T010000
END:STANDARD
BEGIN:DAYLIGHT
TZOFFSETFROM:+0100
TZOFFSETTO:+0200
TZNAME:CEST
DTSTART:20130331T010000
END:DAYLIGHT
BEGIN:STANDARD
TZOFFSETFROM:+0200
TZOFFSETTO:+0100
TZNAME:CET
DTSTART:20131027T010000
END:STANDARD
BEGIN:DAYLIGHT
TZOFFSETFROM:+0100
TZOFFSETTO:+0200
TZNAME:CEST
DTSTART:20140330T010000
END:DAYLIGHT
BEGIN:STANDARD
TZOFFSETFROM:+0200
TZOFFSETTO:+0100
TZNAME:CET
DTSTART:20141026T010000
END:STANDARD
END:VTIMEZONE
BEGIN:VEVENT
DTSTART;TZID=Europe/Berlin:20130306T080000
DTEND;TZID=Europe/Berlin:20130306T170000
DTSTAMP:20260425T182754
CREATED:20210623T091103Z
LAST-MODIFIED:20230707T092719Z
UID:4675-1362556800-1362589200@blog.rwth-aachen.de
SUMMARY:RWTH Adminrunde März 2013
DESCRIPTION:This entry is only available in Deutsch. Name: RWTH Adminrunde März 2013\n \nVeranstaltungsart: Informationsveranstaltung\n \nDatum: 06. März 2013 \nZielgruppe: Alle Interessierten \nAllgemeine Infos zur RWTH Adminrunde \n\n\n  \nAgenda \n\n\n\n\nBegrüßung und Vorstellung der Agenda\nNeues zum Webrelaunch / Vorstellung Institutsbaukasten\nAktuelles zur Exchange Migration\nNeue Strukturen im RZ Service Desk\nErfahrungen mit Ricoh\n\n\n\nVeranstaltungsunterlagen\nDie Folien der Sitzung sind im RWTH Intranet zu finden.
URL:https://blog.rwth-aachen.de/itc-events/en/event/rwth-adminrunde-maerz-2013/
CATEGORIES:RWTH Adminrunde,Wiederkehrend
ATTACH;FMTTYPE=image/jpeg:https://blog.rwth-aachen.de/itc-events/files/2021/04/show_picture.asp_.jpg
ORGANIZER;CN="IT Center":MAILTO:events@itc.rwth-aachen.de
END:VEVENT
END:VCALENDAR