BEGIN:VCALENDAR
VERSION:2.0
PRODID:-//IT Center Events - ECPv6.15.20//NONSGML v1.0//EN
CALSCALE:GREGORIAN
METHOD:PUBLISH
X-WR-CALNAME:IT Center Events
X-ORIGINAL-URL:https://blog.rwth-aachen.de/itc-events/en
X-WR-CALDESC:Events for IT Center Events
REFRESH-INTERVAL;VALUE=DURATION:PT1H
X-Robots-Tag:noindex
X-PUBLISHED-TTL:PT1H
BEGIN:VTIMEZONE
TZID:Europe/Berlin
BEGIN:DAYLIGHT
TZOFFSETFROM:+0100
TZOFFSETTO:+0200
TZNAME:CEST
DTSTART:20210328T010000
END:DAYLIGHT
BEGIN:STANDARD
TZOFFSETFROM:+0200
TZOFFSETTO:+0100
TZNAME:CET
DTSTART:20211031T010000
END:STANDARD
BEGIN:DAYLIGHT
TZOFFSETFROM:+0100
TZOFFSETTO:+0200
TZNAME:CEST
DTSTART:20220327T010000
END:DAYLIGHT
BEGIN:STANDARD
TZOFFSETFROM:+0200
TZOFFSETTO:+0100
TZNAME:CET
DTSTART:20221030T010000
END:STANDARD
BEGIN:DAYLIGHT
TZOFFSETFROM:+0100
TZOFFSETTO:+0200
TZNAME:CEST
DTSTART:20230326T010000
END:DAYLIGHT
BEGIN:STANDARD
TZOFFSETFROM:+0200
TZOFFSETTO:+0100
TZNAME:CET
DTSTART:20231029T010000
END:STANDARD
END:VTIMEZONE
BEGIN:VEVENT
DTSTART;TZID=Europe/Berlin:20221115T130000
DTEND;TZID=Europe/Berlin:20221117T170000
DTSTAMP:20260425T212800
CREATED:20220919T120515Z
LAST-MODIFIED:20220919T120515Z
UID:6129-1668517200-1668704400@blog.rwth-aachen.de
SUMMARY:Training: Visualization and Analysis of Atomistic Simulation Data in OVITO
DESCRIPTION:Name: Training: Visualization and Analysis of Atomistic Simulation Data in OVITO \nEvent type: Workshop \nDate: November 15 to 17\, 2022\n \nTime: 1pm – 5pm \nFormat: Online via Zoom\n \nTarget Audience: HPC user\n \nContact Person: Dr. Daniel Utt \nRegistration \n*More information* \n \n\n  \nDesciption  \n\nPost-processing and analysis of atomistic simulations are essential steps to extract knowledge from the computed trajectories. Many commonly used algorithms are already implemented in OVITO and ready to be used on large datasets containing up to billions of atoms. \nDuring day 1 you will learn how to load your simulation outputs into OVITO and process them in the graphical user interface using the built-in algorithms. We will discuss the most important tools and practice using them in hands-on exercises. \n\n\nOn day 2 we will look at the development of custom processing algorithms using OVITO’s Python extension interface\, which lets you solve more complex analysis tasks. \nOn the last day we will step away from the graphical user interface and take a look at automated workflow scripts. This feature of OVITO lets you generate batch analysis pipelines that may be executed on HPC infrastructure to perform computationally intensive data analysis and visualization tasks in a reproducible way.
URL:https://blog.rwth-aachen.de/itc-events/en/event/training-visualization-and-analysis-of-atomistic-simulation-data-in-ovito/
LOCATION:Online\, Deutschland
CATEGORIES:Einmalig
ATTACH;FMTTYPE=image/jpeg:https://blog.rwth-aachen.de/itc-events/files/2022/09/NHR4CES_RGB.jpg
END:VEVENT
BEGIN:VEVENT
DTSTART;TZID=Europe/Berlin:20221117T140000
DTEND;TZID=Europe/Berlin:20221117T150000
DTSTAMP:20260425T212800
CREATED:20220518T122538Z
LAST-MODIFIED:20220518T122538Z
UID:6025-1668693600-1668697200@blog.rwth-aachen.de
SUMMARY:[:en]HPC Consultation Hour #14[:]
DESCRIPTION:We offer an open HPC consultation hour on a regular basis. This will take place online 4-weekly. Here\, we give you the opportunity to ask any HPC related question\, e.g. about: \n\nCluster usage\nParallel Programming\nPerformance analysis and optimization of self-written codes\nWorkflow optimization (e.g. job management and data processing)\nEfficient usage of systems and software\nSoftware installation and usage\nApplication for compute time on larger systems (tier 2 and 1)\n\nWe will not prepare any slides since this a pure Q&A session. \nIn order to join the Zoom meeting\, you can use the following link: \nhttps://rwth.zoom.us/j/91453505636\nMeeting-ID: 914 5350 5636\nKenncode: 690220
URL:https://blog.rwth-aachen.de/itc-events/en/event/hpc-consultation-hour-14/
LOCATION:Online\, Deutschland
CATEGORIES:HPC Consultation Hour,HPC Events,Wiederkehrend
ATTACH;FMTTYPE=image/jpeg:https://blog.rwth-aachen.de/itc-events/files/2021/09/NewHPC_Consultation_Hour_2-3pm2-e1633003215902.jpg
ORGANIZER;CN="HPC":MAILTO:hpcevent@itc.rwth-aachen.de
END:VEVENT
END:VCALENDAR