BEGIN:VCALENDAR
VERSION:2.0
PRODID:-//IT Center Events - ECPv6.15.20//NONSGML v1.0//EN
CALSCALE:GREGORIAN
METHOD:PUBLISH
X-WR-CALNAME:IT Center Events
X-ORIGINAL-URL:https://blog.rwth-aachen.de/itc-events
X-WR-CALDESC:Veranstaltungen für IT Center Events
REFRESH-INTERVAL;VALUE=DURATION:PT1H
X-Robots-Tag:noindex
X-PUBLISHED-TTL:PT1H
BEGIN:VTIMEZONE
TZID:Europe/Berlin
BEGIN:DAYLIGHT
TZOFFSETFROM:+0100
TZOFFSETTO:+0200
TZNAME:CEST
DTSTART:20230326T010000
END:DAYLIGHT
BEGIN:STANDARD
TZOFFSETFROM:+0200
TZOFFSETTO:+0100
TZNAME:CET
DTSTART:20231029T010000
END:STANDARD
BEGIN:DAYLIGHT
TZOFFSETFROM:+0100
TZOFFSETTO:+0200
TZNAME:CEST
DTSTART:20240331T010000
END:DAYLIGHT
BEGIN:STANDARD
TZOFFSETFROM:+0200
TZOFFSETTO:+0100
TZNAME:CET
DTSTART:20241027T010000
END:STANDARD
BEGIN:DAYLIGHT
TZOFFSETFROM:+0100
TZOFFSETTO:+0200
TZNAME:CEST
DTSTART:20250330T010000
END:DAYLIGHT
BEGIN:STANDARD
TZOFFSETFROM:+0200
TZOFFSETTO:+0100
TZNAME:CET
DTSTART:20251026T010000
END:STANDARD
END:VTIMEZONE
BEGIN:VEVENT
DTSTART;TZID=Europe/Berlin:20240613T130000
DTEND;TZID=Europe/Berlin:20240613T130000
DTSTAMP:20260425T214005
CREATED:20240405T125434Z
LAST-MODIFIED:20240523T073539Z
UID:6981-1718283600-1718283600@blog.rwth-aachen.de
SUMMARY:[:en]NHR4CES - Performance Engineering for Numerical Methods in Computational Fluid Dynamics[:]
DESCRIPTION:Der Eintrag ist nur auf English verfügbar. Name: Performance Engineering for Numerical Methods in Computational Fluid Dynamics \nDate: June 13 (1.00 pm – 5.00 pm) and June 14 (1.00 pm – 5.00 pm)\, 2024 \nFormat: Online \nMore Information & Register \n  \n\n  \nDescription\nShort abstract: \nThis workshop is designed to highlight recent activities\, developments\, and new concepts for analyses and improvements centered around numerical methods used in CFD applications. Emphasis will be placed in particular on optimizations\, applicable performance analyses and engineering techniques\, as well as the presentation of new and innovative computational methods for specific problems. The workshop aims to connect research groups from different domains with the goal of increasing the performance\, efficiency\, and capabilities of modern CFD applications by sparking discussions\, potential collaborations\, and an active exchange of ideas.
URL:https://blog.rwth-aachen.de/itc-events/event/nhr4ces-performance-engineering-for-numerical-methods-in-computational-fluid-dynamics/
LOCATION:Online\, Deutschland
CATEGORIES:HPC Events,NHR4CES Events,Wiederkehrend
END:VEVENT
END:VCALENDAR