BEGIN:VCALENDAR
VERSION:2.0
PRODID:-//IT Center Events - ECPv6.15.20//NONSGML v1.0//EN
CALSCALE:GREGORIAN
METHOD:PUBLISH
X-WR-CALNAME:IT Center Events
X-ORIGINAL-URL:https://blog.rwth-aachen.de/itc-events/en
X-WR-CALDESC:Events for IT Center Events
REFRESH-INTERVAL;VALUE=DURATION:PT1H
X-Robots-Tag:noindex
X-PUBLISHED-TTL:PT1H
BEGIN:VTIMEZONE
TZID:Europe/Berlin
BEGIN:DAYLIGHT
TZOFFSETFROM:+0100
TZOFFSETTO:+0200
TZNAME:CEST
DTSTART:20250330T010000
END:DAYLIGHT
BEGIN:STANDARD
TZOFFSETFROM:+0200
TZOFFSETTO:+0100
TZNAME:CET
DTSTART:20251026T010000
END:STANDARD
BEGIN:DAYLIGHT
TZOFFSETFROM:+0100
TZOFFSETTO:+0200
TZNAME:CEST
DTSTART:20260329T010000
END:DAYLIGHT
BEGIN:STANDARD
TZOFFSETFROM:+0200
TZOFFSETTO:+0100
TZNAME:CET
DTSTART:20261025T010000
END:STANDARD
BEGIN:DAYLIGHT
TZOFFSETFROM:+0100
TZOFFSETTO:+0200
TZNAME:CEST
DTSTART:20270328T010000
END:DAYLIGHT
BEGIN:STANDARD
TZOFFSETFROM:+0200
TZOFFSETTO:+0100
TZNAME:CET
DTSTART:20271031T010000
END:STANDARD
END:VTIMEZONE
BEGIN:VEVENT
DTSTART;VALUE=DATE:20260101
DTEND;VALUE=DATE:20270101
DTSTAMP:20260426T000210
CREATED:20250825T121209Z
LAST-MODIFIED:20260102T113903Z
UID:7604-1767225600-1798761599@blog.rwth-aachen.de
SUMMARY:[:de]RWTHonline Schulungen 2026[:]
DESCRIPTION:This entry is only available in Deutsch. Zur Vorbereitung eines jeden Wintersemesters werden folgende Schulungen für RWTHonline\, dem Campus-Management-System der RWTH\, angeboten: \nThemenblock “Lehrveranstaltungen – Planung” \n\nLehrveranstaltungsangebot vorbereiten\nLehrveranstaltungsgruppen einrichten\nLehrveranstaltungstermine und Raumbuchungen eintragen\n\nThemenblock “Lehrveranstaltungen – Anmeldung” \n\nAnmeldeverfahren erstellen\nAnmeldungen zu Lehrveranstaltungen verwalten\n\nThemenblock “Prüfungen” \n\nPrüfungstermine und Raumbuchungen eintragen\nPrüfungsanmeldungen verwalten\nLeistungen erfassen\n\nUnterlagen vergangener Schulungen finden Sie im RWTHonline-Schulungsportal im Archiv. Bitte beachten Sie\, dass das Portal nur aus dem RWTH-Netz erreichbar ist. \nDie Anmeldung erfolgt über die Seiten der Themen-Schulungen: Zur Übersicht aller RWTHonline-Schulungen.
URL:https://blog.rwth-aachen.de/itc-events/en/event/rwthonline-schulungen-2025/
LOCATION:IT Center\, Kopernikusstraße 6\, Aachen\, NRW\, 52074\, Deutschland
CATEGORIES:Wiederkehrend
ORGANIZER;CN="IT Center":MAILTO:events@itc.rwth-aachen.de
END:VEVENT
BEGIN:VEVENT
DTSTART;VALUE=DATE:20260101
DTEND;VALUE=DATE:20270101
DTSTAMP:20260426T000210
CREATED:20250825T121528Z
LAST-MODIFIED:20260102T113456Z
UID:7606-1767225600-1798761599@blog.rwth-aachen.de
SUMMARY:[:de]fit in IT Kurse 2026[:]
DESCRIPTION:This entry is only available in Deutsch. Unter der Schirmherrschaft des IT Centers bietet das fIT-Team der RWTH Aachen (fit in IT) seit dem Sommersemester 2008 kostenlose IT-Schulungen für Studierende der RWTH an. Das Team setzt sich aus studentischen Hilfskräften zusammen\, die sich in weiten Teilen selbstständig organisieren. In den Kursen wird der Umgang mit gängigen IT-Programmen sowie Präsentationstechniken gelehrt. Dies soll helfen\, die eigenen Ressourcen und die der RWTH effektiver zu nutzen. \nDas Projekt wird aus Qualitätsverbesserungsmitteln des Landes NRW finanziert. Diese dienen der Verbesserung der Lehre und der Studienbedingungen. \nIT-Kompetenz stellt heute in zunehmendem Maße eine der grundlegenden Schlüsselqualifikationen dar. Sei es für ein erfolgreiches Studium oder berufliche Chancen: Die routinierte Beherrschung des Werkzeuges PC und seiner Software sowie die zuverlässige Informationsfindung im Internet sind von enormer Wichtigkeit. \n\n  \nKursanmeldung\n\nDie Anmeldung erfolgt über RWTHonline.\n\n\n  \nEine Hilfestellungen zur Anmeldung sowie Beschreibungen unserer Kurse finden Sie unter Kurse. \nBei Fragen oder Problemen bei der Anmeldung\, wenden Sie sich bitte an den bzw. die jeweilige*n Dozent*en. Alle Kontaktinformationen finden Sie unter Kontakt und Sprechstunden.
URL:https://blog.rwth-aachen.de/itc-events/en/event/fit-in-it-kurse-2025/
LOCATION:Online\, Deutschland
CATEGORIES:Wiederkehrend
ORGANIZER;CN="IT Center":MAILTO:events@itc.rwth-aachen.de
END:VEVENT
BEGIN:VEVENT
DTSTART;TZID=Europe/Berlin:20260119T080000
DTEND;TZID=Europe/Berlin:20260224T170000
DTSTAMP:20260426T000210
CREATED:20260113T082509Z
LAST-MODIFIED:20260113T083240Z
UID:7724-1768809600-1771952400@blog.rwth-aachen.de
SUMMARY:[:en]Python Courses at the IT Center of RWTH Aachen University[:]
DESCRIPTION:Name: Python Courses in January and February 2026 \nLocation: IT Center RWTH Aachen\, Seminarroom 4  \n\n  \nInformation\nAll available Python Courses at the IT Center of RWTH Aachen University in January and February 2026. More information and registration: \n\nJan 19/20: Introduction to Programming with Python\nJan 21/22: Version Control with Git\nFeb 02/03: Python on HPC Clusters\nFeb 23/24: Introduction to Programming with Python\n\n\nAgenda \nAll courses are two-day courses with 3.5h sessions per day. \n\n 
URL:https://blog.rwth-aachen.de/itc-events/en/event/python-courses-at-the-it-center-of-rwth-aachen-university/
LOCATION:IT Center\, Kopernikusstraße 6\, Aachen\, NRW\, 52074\, Deutschland
CATEGORIES:HPC Events
ORGANIZER;CN="HPC":MAILTO:hpcevent@itc.rwth-aachen.de
END:VEVENT
BEGIN:VEVENT
DTSTART;VALUE=DATE:20260209
DTEND;VALUE=DATE:20260211
DTSTAMP:20260426T000210
CREATED:20260126T155349Z
LAST-MODIFIED:20260209T164330Z
UID:7806-1770595200-1770767999@blog.rwth-aachen.de
SUMMARY:[:en]Introduction to High-Performance Computing 2026[:]
DESCRIPTION:This introduction provides hands-on information about working with high performance computing (HPC) at the RWTH Aachen University’s IT Center for users of the CLAIX-2023 HPC system. It is the basis for the follow-up event PPCES 2026. It focus on CLAIX-2023\, the cluster that has been installed end of 2023 at the RWTH Aachen University’s IT Center. \nThe workshop will follow the HPC Carpentry curriculum for “Introduction to High-Performance Computing” while providing specific information for the CLAIX-2023 system. It is designed for prospect users of the HPC systems installed at RWTH Aachen University. Contrary to prior years\, the workshop focuses on hands-on experiences on CLAIX-2023 to deepen the knowledge transfer on working with HPC systems in research. \nThe first part (half-day) provides an hands-on introduction to working with the UNIX shell. It follows the Software Carpentry lesson on “The Unix Shell”. No prior knowledge is required to attend. \nThe second part (two half-days) builds on the knowledge on working with the UNIX shell and focuses on working with HPC systems\, such as CLAIX-2023. It follows the HPC Carpentry lesson “Introduction to HPC”. This part of the workshop is also targeted at prospect users of our HPC systems and will provide first experiences on how to use the software and resource management system on CLAIX-2023. It will enable participants to select preinstalled software on the cluster and write basic scripts to execute it on the HPC system. You will particularly learn about the most important details on using CLAIX-2023. Those who use to run their computing applications on local machines will learn how to run those applications on the RWTH Compute Cluster provided the necessary software licenses are in place. \nThe third part (half-day) will provide an introduction to the JupyterHub Service at RWTH Aachen University as an alternative method to using HPC resources at RWTH Aachen University and will conclude with an overview and introduction on how to apply for computing time at RWTH Aachen University. \nGenerally\, this event forms the foundation needed to take part in our more in-depth event PPCES and to help take decisions on which part of PPCES might be interesting for you. \nPrerequisites\n\nBring a laptop with working Shell environment (Linux\, MacOS\, Windows Subsystem for Linux (WSL))\nPlease provision your CLAIX-2023 account prior to the workshop following the RegApp documentation in the ITC Help Center.\n\nAll presentations will be given in English. \nCooperation Partners\n     \nDetailed Agenda and Course Materials \nDay 1 (Monday\, February 9th\, 2026)\n\n\n\n\nTime\nTopic\nSpeaker\n\n\n09:00 – 09:05\nWelcome\nMarc-André Hermanns\n\n\n09:05 – 09:35\nThe UNIX Shell\nMarc-André Hermanns\n\n\n10:30 – 10:45\nBreak\n\n\n\n10:45 – 12:15\nThe UNIX Shell (continued)\nMarc-André Hermanns\n\n\n12:15 – 13:15\nLunch Break\n\n\n\n13:15 – 14:45\nIntroduction to HPC\nMarc-André Hermanns\n\n\n14:45 – 15:00\nBreak\n\n\n\n15:00 – 16:30\nIntroduction to HPC (continued)\nMarc-André Hermanns\n\n\n\nDay 2 (Tuesday\, February 10th\, 2026)\n\n\n\nTime\nTopic\nSpeaker\n\n\n09:00 – 10:30\nIntroduction to HPC (continued)\nMarc-André Hermanns\n\n\n10:30 – 10:45\nBreak\n\n\n\n10:45 – 12:15\nIntroduction to HPC (continued)\nMarc-André Hermanns\n\n\n12:15 – 13:15\nLunch Break\n\n\n\n13:15 – 14:45\nIntroduction to HPC (continued)\nMarc-André Hermanns\n\n\n14:45 – 15:00\nBreak\n\n\n\n15:00 – 15:45\nIntroduction to JupyterHub\nAlvaro Frank\n\n\n15:45 – 16:30\nHPC Resources and Computing   Projects\nTim Cramer\n\n\n16:30\nClosing Remarks\nMarc-André Hermanns\n\n\n\n\n\nLocation\n\nSeminarrooms 003/004\nErweiterungsgebäude Kop6\, IT Center\, RWTH Aachen University\nKopernikusstraße 6\, 52074 Aachen University\n\nRegistration\nOnline registration
URL:https://blog.rwth-aachen.de/itc-events/en/event/introduction-to-high-performance-computing-2026/
LOCATION:Seminarraum 003/004\, IT Center\, Kopernikusstraße 6\, Aachen
ORGANIZER;CN="HPC.NRW":MAILTO:training@hpc.nrw
END:VEVENT
END:VCALENDAR